BEGIN:VCALENDAR
VERSION:2.0
PRODID:-//Thomas Tripp - ECPv6.15.20//NONSGML v1.0//EN
CALSCALE:GREGORIAN
METHOD:PUBLISH
X-ORIGINAL-URL:https://thomastripp.co.uk
X-WR-CALDESC:Events for Thomas Tripp
REFRESH-INTERVAL;VALUE=DURATION:PT1H
X-Robots-Tag:noindex
X-PUBLISHED-TTL:PT1H
BEGIN:VTIMEZONE
TZID:UTC
BEGIN:STANDARD
TZOFFSETFROM:+0000
TZOFFSETTO:+0000
TZNAME:UTC
DTSTART:20240101T000000
END:STANDARD
END:VTIMEZONE
BEGIN:VEVENT
DTSTART;TZID=UTC:20251202T200000
DTEND;TZID=UTC:20251202T220000
DTSTAMP:20260419T142846
CREATED:20250612T123409Z
LAST-MODIFIED:20250714T111408Z
UID:10001187-1764705600-1764712800@thomastripp.co.uk
SUMMARY:Open Mic with Si Genaro
DESCRIPTION:Join Si Genaro and his guest for an evening of Open Mic entertainment. Welcoming solo performers\, duo’s\, band’s\, comedians and poets. Always a great atmosphere and a very entertaining evening!
URL:https://thomastripp.co.uk/event/open-mic-with-si-genaro-3/2025-12-02
LOCATION:Thomas Tripp\, 10 Wick Lane\, Christchurch\, Dorset\, BH23 1HX\, United Kingdom
CATEGORIES:Live Music
ATTACH;FMTTYPE=image/jpeg:https://thomastripp.co.uk/wp-content/uploads/2024/02/94786521_10158401603338894_5308774758349799424_n.jpg
END:VEVENT
BEGIN:VEVENT
DTSTART;TZID=UTC:20251205T210000
DTEND;TZID=UTC:20251205T230000
DTSTAMP:20260419T142846
CREATED:20251029T163856Z
LAST-MODIFIED:20251029T163859Z
UID:10001271-1764968400-1764975600@thomastripp.co.uk
SUMMARY:Live Music by WOT4
DESCRIPTION:
URL:https://thomastripp.co.uk/event/live-music-by-wot4
LOCATION:Thomas Tripp\, 10 Wick Lane\, Christchurch\, Dorset\, BH23 1HX\, United Kingdom
ATTACH;FMTTYPE=image/jpeg:https://thomastripp.co.uk/wp-content/uploads/2024/02/MUSIC-3-scaled.jpg
END:VEVENT
BEGIN:VEVENT
DTSTART;TZID=UTC:20251206T210000
DTEND;TZID=UTC:20251206T230000
DTSTAMP:20260419T142846
CREATED:20251029T164001Z
LAST-MODIFIED:20251029T164003Z
UID:10001272-1765054800-1765062000@thomastripp.co.uk
SUMMARY:Live Music by Brass Monkeys
DESCRIPTION:Brass Monkeys bring you a Saturday night with a difference! Covering everything from Duffy and Stevie Wonder through to Kaiser Chiefs and Primal Scream… With plenty of brass included of course!
URL:https://thomastripp.co.uk/event/live-music-by-brass-monkeys-7
LOCATION:Thomas Tripp\, 10 Wick Lane\, Christchurch\, Dorset\, BH23 1HX\, United Kingdom
ATTACH;FMTTYPE=image/jpeg:https://thomastripp.co.uk/wp-content/uploads/2024/03/432020545_1116562063099802_1261378146540634811_n.jpg
END:VEVENT
BEGIN:VEVENT
DTSTART;TZID=UTC:20251207T160000
DTEND;TZID=UTC:20251207T180000
DTSTAMP:20260419T142846
CREATED:20251029T164057Z
LAST-MODIFIED:20251029T164103Z
UID:10001273-1765123200-1765130400@thomastripp.co.uk
SUMMARY:Live Music by Anne-Marie
DESCRIPTION:A female solo artist from Bournemouth\, singing all types of music from rock to opera!
URL:https://thomastripp.co.uk/event/live-music-by-anne-marie-2
LOCATION:Thomas Tripp\, 10 Wick Lane\, Christchurch\, Dorset\, BH23 1HX\, United Kingdom
ATTACH;FMTTYPE=image/jpeg:https://thomastripp.co.uk/wp-content/uploads/2025/06/293006656_711430940210344_6698958702858507070_n.jpeg
END:VEVENT
END:VCALENDAR