BEGIN:VCALENDAR
VERSION:2.0
PRODID:-//Thomas Tripp - ECPv6.15.20//NONSGML v1.0//EN
CALSCALE:GREGORIAN
METHOD:PUBLISH
X-WR-CALNAME:Thomas Tripp
X-ORIGINAL-URL:https://thomastripp.co.uk
X-WR-CALDESC:Events for Thomas Tripp
REFRESH-INTERVAL;VALUE=DURATION:PT1H
X-Robots-Tag:noindex
X-PUBLISHED-TTL:PT1H
BEGIN:VTIMEZONE
TZID:UTC
BEGIN:STANDARD
TZOFFSETFROM:+0000
TZOFFSETTO:+0000
TZNAME:UTC
DTSTART:20240101T000000
END:STANDARD
END:VTIMEZONE
BEGIN:VEVENT
DTSTART;TZID=UTC:20251128T210000
DTEND;TZID=UTC:20251128T230000
DTSTAMP:20260421T210031
CREATED:20251024T101501Z
LAST-MODIFIED:20251024T101606Z
UID:10001267-1764363600-1764370800@thomastripp.co.uk
SUMMARY:Live music by Third Degree
DESCRIPTION:Third Degree was formed when 37 years of ABB came to an end in 2025\, and includes 2 founder members of ABB (John Holmes – guitar and Dave Christopher – bass)\, plus John Ackroyd (keyboards)\, Brian Heeley (drums) and award winning vocalist/harmonica player Hugh Budden. The band plays blues\, jump\, jive and boogie\, and has delighted audiences over the few months they have been together.
URL:https://thomastripp.co.uk/event/live-music-by-third-degree
LOCATION:Thomas Tripp\, 10 Wick Lane\, Christchurch\, Dorset\, BH23 1HX\, United Kingdom
CATEGORIES:Live Music
ATTACH;FMTTYPE=image/jpeg:https://thomastripp.co.uk/wp-content/uploads/2025/10/IMG_0748.jpg
END:VEVENT
BEGIN:VEVENT
DTSTART;TZID=UTC:20251129T210000
DTEND;TZID=UTC:20251129T210000
DTSTAMP:20260421T210031
CREATED:20251029T163017Z
LAST-MODIFIED:20251029T163020Z
UID:10001268-1764450000-1764450000@thomastripp.co.uk
SUMMARY:Live Music by The Audio Allstars
DESCRIPTION:UK & International Award Winning Party Band\, Playing Functions/Weddings and Events!
URL:https://thomastripp.co.uk/event/live-music-by-the-audio-allstars-4
LOCATION:Thomas Tripp\, 10 Wick Lane\, Christchurch\, Dorset\, BH23 1HX\, United Kingdom
ATTACH;FMTTYPE=image/jpeg:https://thomastripp.co.uk/wp-content/uploads/2024/04/420134750_876765917782562_1370726775808576846_n.jpg
END:VEVENT
BEGIN:VEVENT
DTSTART;TZID=UTC:20251130T160000
DTEND;TZID=UTC:20251130T180000
DTSTAMP:20260421T210031
CREATED:20251029T163613Z
LAST-MODIFIED:20251029T163616Z
UID:10001270-1764518400-1764525600@thomastripp.co.uk
SUMMARY:Live Music by Leigh
DESCRIPTION:Sunday Acoustic Covers!
URL:https://thomastripp.co.uk/event/live-music-by-leigh
LOCATION:Thomas Tripp\, 10 Wick Lane\, Christchurch\, Dorset\, BH23 1HX\, United Kingdom
ATTACH;FMTTYPE=image/jpeg:https://thomastripp.co.uk/wp-content/uploads/2024/02/415455076_881341440664843_8727961781025492881_n.jpg
END:VEVENT
END:VCALENDAR