BEGIN:VCALENDAR
VERSION:2.0
PRODID:-//Thomas Tripp - ECPv6.15.20//NONSGML v1.0//EN
CALSCALE:GREGORIAN
METHOD:PUBLISH
X-ORIGINAL-URL:https://thomastripp.co.uk
X-WR-CALDESC:Events for Thomas Tripp
REFRESH-INTERVAL;VALUE=DURATION:PT1H
X-Robots-Tag:noindex
X-PUBLISHED-TTL:PT1H
BEGIN:VTIMEZONE
TZID:UTC
BEGIN:STANDARD
TZOFFSETFROM:+0000
TZOFFSETTO:+0000
TZNAME:UTC
DTSTART:20240101T000000
END:STANDARD
END:VTIMEZONE
BEGIN:VEVENT
DTSTART;TZID=UTC:20251113T200000
DTEND;TZID=UTC:20251113T220000
DTSTAMP:20260421T193158
CREATED:20250915T132126Z
LAST-MODIFIED:20250915T132130Z
UID:10001259-1763064000-1763071200@thomastripp.co.uk
SUMMARY:Live Music by Blue Lion Band
DESCRIPTION:
URL:https://thomastripp.co.uk/event/live-music-by-blue-lion-band
LOCATION:Thomas Tripp\, 10 Wick Lane\, Christchurch\, Dorset\, BH23 1HX\, United Kingdom
ATTACH;FMTTYPE=image/jpeg:https://thomastripp.co.uk/wp-content/uploads/2024/01/tripp-venue-scaled.jpg
END:VEVENT
BEGIN:VEVENT
DTSTART;TZID=UTC:20251114T210000
DTEND;TZID=UTC:20251114T230000
DTSTAMP:20260421T193158
CREATED:20250915T132153Z
LAST-MODIFIED:20250915T132156Z
UID:10001260-1763154000-1763161200@thomastripp.co.uk
SUMMARY:Live music by Dr Beatroot
DESCRIPTION:Dr Beatroot is a 5-piece British Skifflely bluegrass band from Bournemouth. Formed in 2017\, a collection of friends hail as ‘Bunch of passing fools’ who just can’t get enough Bluegrass and Appalachian roots music. Their unique brand of entertainment fuses Percussive bluegrass\, country\, skiffle and Appalachian roots with high-energy\, traditional and newer tunes that will make you want to clap along\, stamp your feet and sing out loud!
URL:https://thomastripp.co.uk/event/live-music-by-dr-beatroot-6
LOCATION:Thomas Tripp\, 10 Wick Lane\, Christchurch\, Dorset\, BH23 1HX\, United Kingdom
CATEGORIES:Live Music
ATTACH;FMTTYPE=image/jpeg:https://thomastripp.co.uk/wp-content/uploads/2024/02/406802583_693491716095928_4347835048703714477_n.jpg
END:VEVENT
BEGIN:VEVENT
DTSTART;TZID=UTC:20251115T210000
DTEND;TZID=UTC:20251115T230000
DTSTAMP:20260421T193158
CREATED:20250915T132248Z
LAST-MODIFIED:20250915T132248Z
UID:10001261-1763240400-1763247600@thomastripp.co.uk
SUMMARY:Live Music by All Funked Up
DESCRIPTION:
URL:https://thomastripp.co.uk/event/live-music-by-all-funked-up-2
LOCATION:Thomas Tripp\, 10 Wick Lane\, Christchurch\, Dorset\, BH23 1HX\, United Kingdom
ATTACH;FMTTYPE=image/jpeg:https://thomastripp.co.uk/wp-content/uploads/2024/01/MUSIC-2-scaled.jpg
END:VEVENT
BEGIN:VEVENT
DTSTART;TZID=UTC:20251116T160000
DTEND;TZID=UTC:20251116T180000
DTSTAMP:20260421T193158
CREATED:20250915T132341Z
LAST-MODIFIED:20250915T132345Z
UID:10001262-1763308800-1763316000@thomastripp.co.uk
SUMMARY:Live Music by Neil & Sally
DESCRIPTION:
URL:https://thomastripp.co.uk/event/live-music-by-neil-sally
LOCATION:Thomas Tripp\, 10 Wick Lane\, Christchurch\, Dorset\, BH23 1HX\, United Kingdom
ATTACH;FMTTYPE=image/jpeg:https://thomastripp.co.uk/wp-content/uploads/2024/01/MUSIC-3-scaled.jpg
END:VEVENT
END:VCALENDAR