BEGIN:VCALENDAR
VERSION:2.0
PRODID:-//Thomas Tripp - ECPv6.15.20//NONSGML v1.0//EN
CALSCALE:GREGORIAN
METHOD:PUBLISH
X-ORIGINAL-URL:https://thomastripp.co.uk
X-WR-CALDESC:Events for Thomas Tripp
REFRESH-INTERVAL;VALUE=DURATION:PT1H
X-Robots-Tag:noindex
X-PUBLISHED-TTL:PT1H
BEGIN:VTIMEZONE
TZID:UTC
BEGIN:STANDARD
TZOFFSETFROM:+0000
TZOFFSETTO:+0000
TZNAME:UTC
DTSTART:20240101T000000
END:STANDARD
END:VTIMEZONE
BEGIN:VEVENT
DTSTART;TZID=UTC:20251017T210000
DTEND;TZID=UTC:20251017T230000
DTSTAMP:20260423T182942
CREATED:20250915T131105Z
LAST-MODIFIED:20250915T131110Z
UID:10001248-1760734800-1760742000@thomastripp.co.uk
SUMMARY:Live Music by Emma Hardy Band
DESCRIPTION:
URL:https://thomastripp.co.uk/event/live-music-by-emma-hardy-band
LOCATION:Thomas Tripp\, 10 Wick Lane\, Christchurch\, Dorset\, BH23 1HX\, United Kingdom
ATTACH;FMTTYPE=image/jpeg:https://thomastripp.co.uk/wp-content/uploads/2024/01/MUSIC-2-scaled.jpg
END:VEVENT
BEGIN:VEVENT
DTSTART;TZID=UTC:20251018T210000
DTEND;TZID=UTC:20251018T230000
DTSTAMP:20260423T182942
CREATED:20250915T131207Z
LAST-MODIFIED:20250915T131211Z
UID:10001249-1760821200-1760828400@thomastripp.co.uk
SUMMARY:Live Music by Hot Topic
DESCRIPTION:
URL:https://thomastripp.co.uk/event/live-music-by-hot-topic
LOCATION:Thomas Tripp\, 10 Wick Lane\, Christchurch\, Dorset\, BH23 1HX\, United Kingdom
ATTACH;FMTTYPE=image/jpeg:https://thomastripp.co.uk/wp-content/uploads/2024/01/MUSIC-3-scaled.jpg
END:VEVENT
BEGIN:VEVENT
DTSTART;TZID=UTC:20251019T160000
DTEND;TZID=UTC:20251019T180000
DTSTAMP:20260423T182942
CREATED:20250609T100923Z
LAST-MODIFIED:20250915T131250Z
UID:10001155-1760889600-1760896800@thomastripp.co.uk
SUMMARY:Live Music by Jonathan Lindop
DESCRIPTION:A solo artist performing a set consisting of popular sing alongs and well known classics.
URL:https://thomastripp.co.uk/event/jonathan-lindop
LOCATION:Thomas Tripp\, 10 Wick Lane\, Christchurch\, Dorset\, BH23 1HX\, United Kingdom
ATTACH;FMTTYPE=image/jpeg:https://thomastripp.co.uk/wp-content/uploads/2025/06/467703121_879863617685988_7301321606147914615_n.jpeg
END:VEVENT
END:VCALENDAR