BEGIN:VCALENDAR
VERSION:2.0
PRODID:-//Thomas Tripp - ECPv6.15.20//NONSGML v1.0//EN
CALSCALE:GREGORIAN
METHOD:PUBLISH
X-ORIGINAL-URL:https://thomastripp.co.uk
X-WR-CALDESC:Events for Thomas Tripp
REFRESH-INTERVAL;VALUE=DURATION:PT1H
X-Robots-Tag:noindex
X-PUBLISHED-TTL:PT1H
BEGIN:VTIMEZONE
TZID:UTC
BEGIN:STANDARD
TZOFFSETFROM:+0000
TZOFFSETTO:+0000
TZNAME:UTC
DTSTART:20240101T000000
END:STANDARD
END:VTIMEZONE
BEGIN:VEVENT
DTSTART;TZID=UTC:20251003T210000
DTEND;TZID=UTC:20251003T230000
DTSTAMP:20260423T213508
CREATED:20250915T130154Z
LAST-MODIFIED:20250915T130326Z
UID:10001244-1759525200-1759532400@thomastripp.co.uk
SUMMARY:About Time
DESCRIPTION:
URL:https://thomastripp.co.uk/event/about-time
LOCATION:Thomas Tripp\, 10 Wick Lane\, Christchurch\, Dorset\, BH23 1HX\, United Kingdom
ATTACH;FMTTYPE=image/jpeg:https://thomastripp.co.uk/wp-content/uploads/2024/01/MUSIC-3-scaled.jpg
END:VEVENT
BEGIN:VEVENT
DTSTART;TZID=UTC:20251004T210000
DTEND;TZID=UTC:20251004T230000
DTSTAMP:20260423T213508
CREATED:20250915T130441Z
LAST-MODIFIED:20250915T130445Z
UID:10001245-1759611600-1759618800@thomastripp.co.uk
SUMMARY:Whitley Lake
DESCRIPTION:
URL:https://thomastripp.co.uk/event/whitley-lake
LOCATION:Thomas Tripp\, 10 Wick Lane\, Christchurch\, Dorset\, BH23 1HX\, United Kingdom
ATTACH;FMTTYPE=image/jpeg:https://thomastripp.co.uk/wp-content/uploads/2024/01/MUSIC-2-scaled.jpg
END:VEVENT
BEGIN:VEVENT
DTSTART;TZID=UTC:20251005T160000
DTEND;TZID=UTC:20251005T180000
DTSTAMP:20260423T213508
CREATED:20250915T130703Z
LAST-MODIFIED:20250915T130707Z
UID:10001246-1759680000-1759687200@thomastripp.co.uk
SUMMARY:Live Music by Roxanne Phillips
DESCRIPTION:
URL:https://thomastripp.co.uk/event/live-music-by-roxanne-phillips
LOCATION:Thomas Tripp\, 10 Wick Lane\, Christchurch\, Dorset\, BH23 1HX\, United Kingdom
ATTACH;FMTTYPE=image/jpeg:https://thomastripp.co.uk/wp-content/uploads/2024/01/MUSIC-3-scaled.jpg
END:VEVENT
END:VCALENDAR