BEGIN:VCALENDAR
VERSION:2.0
PRODID:-//Thomas Tripp - ECPv6.15.20//NONSGML v1.0//EN
CALSCALE:GREGORIAN
METHOD:PUBLISH
X-WR-CALNAME:Thomas Tripp
X-ORIGINAL-URL:https://thomastripp.co.uk
X-WR-CALDESC:Events for Thomas Tripp
REFRESH-INTERVAL;VALUE=DURATION:PT1H
X-Robots-Tag:noindex
X-PUBLISHED-TTL:PT1H
BEGIN:VTIMEZONE
TZID:UTC
BEGIN:STANDARD
TZOFFSETFROM:+0000
TZOFFSETTO:+0000
TZNAME:UTC
DTSTART:20240101T000000
END:STANDARD
END:VTIMEZONE
BEGIN:VEVENT
DTSTART;TZID=UTC:20250822T210000
DTEND;TZID=UTC:20250822T230000
DTSTAMP:20260423T182743
CREATED:20250609T102728Z
LAST-MODIFIED:20250609T102733Z
UID:10001164-1755896400-1755903600@thomastripp.co.uk
SUMMARY:Live Music by The Jolly Holly Bobs
DESCRIPTION:
URL:https://thomastripp.co.uk/event/live-music-by-the-jolly-holly-bobs
LOCATION:Thomas Tripp\, 10 Wick Lane\, Christchurch\, Dorset\, BH23 1HX\, United Kingdom
ATTACH;FMTTYPE=image/jpeg:https://thomastripp.co.uk/wp-content/uploads/2024/02/MUSIC-3-scaled.jpg
END:VEVENT
BEGIN:VEVENT
DTSTART;TZID=UTC:20250823T210000
DTEND;TZID=UTC:20250823T230000
DTSTAMP:20260423T182743
CREATED:20250609T101303Z
LAST-MODIFIED:20250609T103440Z
UID:10001156-1755982800-1755990000@thomastripp.co.uk
SUMMARY:Live Music by Skamageddon
DESCRIPTION:Skamageddon are a 9 piece collective of musicians and misfits from Hampshire and Dorset.
URL:https://thomastripp.co.uk/event/skamageddon
LOCATION:Thomas Tripp\, 10 Wick Lane\, Christchurch\, Dorset\, BH23 1HX\, United Kingdom
ATTACH;FMTTYPE=image/jpeg:https://thomastripp.co.uk/wp-content/uploads/2025/06/490183496_10161414256017336_1546552893379900050_n.jpeg
END:VEVENT
BEGIN:VEVENT
DTSTART;TZID=UTC:20250824T150000
DTEND;TZID=UTC:20250824T200000
DTSTAMP:20260423T182743
CREATED:20250609T101556Z
LAST-MODIFIED:20250811T152318Z
UID:10001158-1756047600-1756065600@thomastripp.co.uk
SUMMARY:Hawaiian Day Rave
DESCRIPTION:L8R presents “Rave” – an unforgettable Hawaiian-themed dance party featuring the hottest DJs spinning classic 1990s house and trance music exclusively on vinyl. \n💷 Entry: £5 (suggested charity donation) \nFeatured DJs: \n\nMarco Polo\nDanny Rose\n\nSpecial Performances at: \n\nMiss Montepennies\nBagleys\nCamden Palace\nCanvas\n\nDress Code: Come dressed in your best Hawaiian shirts and skirts to fully embrace the tropical vibes! Think bright florals\, palm prints\, and island-inspired fashion. \nMusic: Exclusively vinyl sets featuring the best of 1990s house and trance – expect those classic tracks that defined the era\, played the way they were meant to be heard. \nThis charity fundraiser combines the nostalgic sounds of the 90s rave scene with a fun tropical theme\, creating the perfect afternoon of dancing\, good vibes\, and supporting a great cause. Whether you’re a veteran of the original 90s scene or discovering these timeless tracks for the first time\, this event promises an authentic vinyl experience in a relaxed daytime setting. \nFollow @L8REVENTS for updates and more information about this unique celebration of dance music history!
URL:https://thomastripp.co.uk/event/fiona-charity-dj-day
LOCATION:Thomas Tripp\, 10 Wick Lane\, Christchurch\, Dorset\, BH23 1HX\, United Kingdom
ATTACH;FMTTYPE=image/jpeg:https://thomastripp.co.uk/wp-content/uploads/2025/06/INSTAGRAM-L8R-HAWAIIAN-PARTYTHOMAS-TRIPP2025-scaled.jpg
END:VEVENT
BEGIN:VEVENT
DTSTART;TZID=UTC:20250824T210000
DTEND;TZID=UTC:20250824T230000
DTSTAMP:20260423T182743
CREATED:20250609T101433Z
LAST-MODIFIED:20250609T101447Z
UID:10001157-1756069200-1756076400@thomastripp.co.uk
SUMMARY:Live Music by Matt Black - Piano Man
DESCRIPTION:Matt is a local legend here in Dorset and delights crowds wherever he plays! Expect dancing\, laughs and the odd dirty joke… 
URL:https://thomastripp.co.uk/event/live-music-by-matt-black-piano-man-2
LOCATION:Thomas Tripp\, 10 Wick Lane\, Christchurch\, Dorset\, BH23 1HX\, United Kingdom
ATTACH;FMTTYPE=image/jpeg:https://thomastripp.co.uk/wp-content/uploads/2024/04/320153926_906184603713306_8021534232223165302_n.jpg
END:VEVENT
END:VCALENDAR