BEGIN:VCALENDAR
VERSION:2.0
PRODID:-//Thomas Tripp - ECPv6.15.20//NONSGML v1.0//EN
CALSCALE:GREGORIAN
METHOD:PUBLISH
X-ORIGINAL-URL:https://thomastripp.co.uk
X-WR-CALDESC:Events for Thomas Tripp
REFRESH-INTERVAL;VALUE=DURATION:PT1H
X-Robots-Tag:noindex
X-PUBLISHED-TTL:PT1H
BEGIN:VTIMEZONE
TZID:UTC
BEGIN:STANDARD
TZOFFSETFROM:+0000
TZOFFSETTO:+0000
TZNAME:UTC
DTSTART:20240101T000000
END:STANDARD
END:VTIMEZONE
BEGIN:VEVENT
DTSTART;TZID=UTC:20250717T200000
DTEND;TZID=UTC:20250717T220000
DTSTAMP:20260421T210331
CREATED:20250428T134926Z
LAST-MODIFIED:20250428T134932Z
UID:10001144-1752782400-1752789600@thomastripp.co.uk
SUMMARY:Life in the Past Lane
DESCRIPTION:Live band 60/70/80/90s tribute to the greats.
URL:https://thomastripp.co.uk/event/life-in-the-past-lane
LOCATION:Thomas Tripp\, 10 Wick Lane\, Christchurch\, Dorset\, BH23 1HX\, United Kingdom
ATTACH;FMTTYPE=image/jpeg:https://thomastripp.co.uk/wp-content/uploads/2025/04/470216790_10232235726988909_3181494558461211682_n.jpeg
END:VEVENT
BEGIN:VEVENT
DTSTART;TZID=UTC:20250718T210000
DTEND;TZID=UTC:20250718T230000
DTSTAMP:20260421T210331
CREATED:20250307T145331Z
LAST-MODIFIED:20250307T145354Z
UID:10001128-1752872400-1752879600@thomastripp.co.uk
SUMMARY:Live Music by Precinct 13
DESCRIPTION:A fun night of singing and dancing along to the best rock covers around!
URL:https://thomastripp.co.uk/event/live-music-by-precinct-13-3
LOCATION:Thomas Tripp\, 10 Wick Lane\, Christchurch\, Dorset\, BH23 1HX\, United Kingdom
ATTACH;FMTTYPE=image/jpeg:https://thomastripp.co.uk/wp-content/uploads/2024/08/454034305_1304668604194935_4975863344892374437_n.jpg
END:VEVENT
BEGIN:VEVENT
DTSTART;TZID=UTC:20250719T210000
DTEND;TZID=UTC:20250719T230000
DTSTAMP:20260421T210331
CREATED:20250307T145435Z
LAST-MODIFIED:20250307T145439Z
UID:10001129-1752958800-1752966000@thomastripp.co.uk
SUMMARY:Live Music by Essential Party Band
DESCRIPTION:The Essential Party Band are an exciting\, energetic\, soulful function and wedding band.
URL:https://thomastripp.co.uk/event/live-music-by-essential-party-band-4
LOCATION:Thomas Tripp\, 10 Wick Lane\, Christchurch\, Dorset\, BH23 1HX\, United Kingdom
ATTACH;FMTTYPE=image/jpeg:https://thomastripp.co.uk/wp-content/uploads/2024/03/337149319_1383905842359176_6935132769293630737_n.jpg
END:VEVENT
BEGIN:VEVENT
DTSTART;TZID=UTC:20250720T160000
DTEND;TZID=UTC:20250720T180000
DTSTAMP:20260421T210331
CREATED:20250402T123118Z
LAST-MODIFIED:20250616T112228Z
UID:10001139-1753027200-1753034400@thomastripp.co.uk
SUMMARY:Live Music by Krista Green
DESCRIPTION:Bournemouth based singer/songwriter
URL:https://thomastripp.co.uk/event/krista-green
LOCATION:Thomas Tripp\, 10 Wick Lane\, Christchurch\, Dorset\, BH23 1HX\, United Kingdom
ATTACH;FMTTYPE=image/jpeg:https://thomastripp.co.uk/wp-content/uploads/2025/04/468435325_10161990896491638_7919839760071386334_n.jpeg
END:VEVENT
END:VCALENDAR