BEGIN:VCALENDAR
VERSION:2.0
PRODID:-//Thomas Tripp - ECPv6.15.20//NONSGML v1.0//EN
CALSCALE:GREGORIAN
METHOD:PUBLISH
X-ORIGINAL-URL:https://thomastripp.co.uk
X-WR-CALDESC:Events for Thomas Tripp
REFRESH-INTERVAL;VALUE=DURATION:PT1H
X-Robots-Tag:noindex
X-PUBLISHED-TTL:PT1H
BEGIN:VTIMEZONE
TZID:UTC
BEGIN:STANDARD
TZOFFSETFROM:+0000
TZOFFSETTO:+0000
TZNAME:UTC
DTSTART:20240101T000000
END:STANDARD
END:VTIMEZONE
BEGIN:VEVENT
DTSTART;TZID=UTC:20250627T210000
DTEND;TZID=UTC:20250627T230000
DTSTAMP:20260423T213034
CREATED:20250331T131215Z
LAST-MODIFIED:20250616T112341Z
UID:10001134-1751058000-1751065200@thomastripp.co.uk
SUMMARY:Live Music by The Other Guy's
DESCRIPTION:The Other Guys is a 5 piece band playing a wide range of rock and indie songs from across the decades!
URL:https://thomastripp.co.uk/event/stilettos
LOCATION:Thomas Tripp\, 10 Wick Lane\, Christchurch\, Dorset\, BH23 1HX\, United Kingdom
ATTACH;FMTTYPE=image/jpeg:https://thomastripp.co.uk/wp-content/uploads/2025/03/484444412_1196013535645390_5330501502693086511_n.jpeg
END:VEVENT
BEGIN:VEVENT
DTSTART;TZID=UTC:20250628T210000
DTEND;TZID=UTC:20250628T230000
DTSTAMP:20260423T213034
CREATED:20250307T141358Z
LAST-MODIFIED:20250307T141403Z
UID:10001124-1751144400-1751151600@thomastripp.co.uk
SUMMARY:Live Music by Big Nite Out
DESCRIPTION:A rocking party band getting you on your feet and loving life!
URL:https://thomastripp.co.uk/event/live-music-by-big-nite-out-3
LOCATION:Thomas Tripp\, 10 Wick Lane\, Christchurch\, Dorset\, BH23 1HX\, United Kingdom
ATTACH;FMTTYPE=image/jpeg:https://thomastripp.co.uk/wp-content/uploads/2024/04/310985217_532698222195835_6867483187524275567_n.jpg
END:VEVENT
BEGIN:VEVENT
DTSTART;TZID=UTC:20250629T160000
DTEND;TZID=UTC:20250629T180000
DTSTAMP:20260423T213034
CREATED:20250307T141514Z
LAST-MODIFIED:20250307T141520Z
UID:10001125-1751212800-1751220000@thomastripp.co.uk
SUMMARY:Live music by P R Dewhurst
DESCRIPTION:Live Music with P R Dewhurst \n 
URL:https://thomastripp.co.uk/event/live-music-by-p-r-dewhurst-6
LOCATION:Thomas Tripp\, 10 Wick Lane\, Christchurch\, Dorset\, BH23 1HX\, United Kingdom
CATEGORIES:Live Music
ATTACH;FMTTYPE=image/jpeg:https://thomastripp.co.uk/wp-content/uploads/2024/02/277819885_343774794457485_2912552769000094855_n-1.jpg
END:VEVENT
END:VCALENDAR