BEGIN:VCALENDAR
VERSION:2.0
PRODID:-//Thomas Tripp - ECPv6.15.20//NONSGML v1.0//EN
CALSCALE:GREGORIAN
METHOD:PUBLISH
X-ORIGINAL-URL:https://thomastripp.co.uk
X-WR-CALDESC:Events for Thomas Tripp
REFRESH-INTERVAL;VALUE=DURATION:PT1H
X-Robots-Tag:noindex
X-PUBLISHED-TTL:PT1H
BEGIN:VTIMEZONE
TZID:UTC
BEGIN:STANDARD
TZOFFSETFROM:+0000
TZOFFSETTO:+0000
TZNAME:UTC
DTSTART:20240101T000000
END:STANDARD
END:VTIMEZONE
BEGIN:VEVENT
DTSTART;TZID=UTC:20250502T210000
DTEND;TZID=UTC:20250502T230000
DTSTAMP:20260420T054812
CREATED:20250307T130432Z
LAST-MODIFIED:20250307T130438Z
UID:10001099-1746219600-1746226800@thomastripp.co.uk
SUMMARY:Live Music by The Few
DESCRIPTION:They’re back with us with a brand new frontman! A night full of rock and pop covers\, guaranteed great night with The Few on the stage.
URL:https://thomastripp.co.uk/event/live-music-by-the-few-5
LOCATION:Thomas Tripp\, 10 Wick Lane\, Christchurch\, Dorset\, BH23 1HX\, United Kingdom
ATTACH;FMTTYPE=image/jpeg:https://thomastripp.co.uk/wp-content/uploads/2024/03/425677680_1157357225402204_8959186643693190457_n.jpg
END:VEVENT
BEGIN:VEVENT
DTSTART;TZID=UTC:20250503T210000
DTEND;TZID=UTC:20250503T230000
DTSTAMP:20260420T054812
CREATED:20250307T130537Z
LAST-MODIFIED:20250307T130542Z
UID:10001100-1746306000-1746313200@thomastripp.co.uk
SUMMARY:Live Music by SIRPICO
DESCRIPTION:A vibrant\, four piece\, Indie rock band\, with a touch of old school r’n’b mixed in for good measure. Sirpico\, from the South Coast of England\, released their debut album named\, To Be Frank… last year. The album was a few years in the making\, but was finally set free and received great reviews. Since the release of To Be Frank… the band have been working hard on follow up material. The latest single ‘Digital Me’ is out on all platforms now!
URL:https://thomastripp.co.uk/event/live-music-by-sirpico-2
LOCATION:Thomas Tripp\, 10 Wick Lane\, Christchurch\, Dorset\, BH23 1HX\, United Kingdom
ATTACH;FMTTYPE=image/jpeg:https://thomastripp.co.uk/wp-content/uploads/2024/04/312958734_654228806172133_2597806657477761415_n.jpg
END:VEVENT
BEGIN:VEVENT
DTSTART;TZID=UTC:20250504T150000
DTEND;TZID=UTC:20250504T170000
DTSTAMP:20260420T054812
CREATED:20250307T130715Z
LAST-MODIFIED:20250307T130720Z
UID:10001101-1746370800-1746378000@thomastripp.co.uk
SUMMARY:Live Music by Brass Monkeys
DESCRIPTION:Brass Monkeys bring you a Saturday night with a difference! Covering everything from Duffy and Stevie Wonder through to Kaiser Chiefs and Primal Scream… With plenty of brass included of course!
URL:https://thomastripp.co.uk/event/live-music-by-brass-monkeys-4
LOCATION:Thomas Tripp\, 10 Wick Lane\, Christchurch\, Dorset\, BH23 1HX\, United Kingdom
ATTACH;FMTTYPE=image/jpeg:https://thomastripp.co.uk/wp-content/uploads/2024/03/432020545_1116562063099802_1261378146540634811_n.jpg
END:VEVENT
END:VCALENDAR