BEGIN:VCALENDAR
VERSION:2.0
PRODID:-//Thomas Tripp - ECPv6.15.20//NONSGML v1.0//EN
CALSCALE:GREGORIAN
METHOD:PUBLISH
X-ORIGINAL-URL:https://thomastripp.co.uk
X-WR-CALDESC:Events for Thomas Tripp
REFRESH-INTERVAL;VALUE=DURATION:PT1H
X-Robots-Tag:noindex
X-PUBLISHED-TTL:PT1H
BEGIN:VTIMEZONE
TZID:UTC
BEGIN:STANDARD
TZOFFSETFROM:+0000
TZOFFSETTO:+0000
TZNAME:UTC
DTSTART:20240101T000000
END:STANDARD
END:VTIMEZONE
BEGIN:VEVENT
DTSTART;TZID=UTC:20250415T200000
DTEND;TZID=UTC:20250415T220000
DTSTAMP:20260419T202740
CREATED:20250304T125330Z
LAST-MODIFIED:20250304T125335Z
UID:10000832-1744747200-1744754400@thomastripp.co.uk
SUMMARY:Open Mic with Si Genaro
DESCRIPTION:Join Si Genaro and his guest for an evening of Open Mic entertainment. Welcoming solo performers\, duo’s\, band’s\, comedians and poets. Always a great atmosphere and a very entertaining evening!
URL:https://thomastripp.co.uk/event/open-mic-with-si-genaro-2-2
LOCATION:Thomas Tripp\, 10 Wick Lane\, Christchurch\, Dorset\, BH23 1HX\, United Kingdom
CATEGORIES:Live Music
ATTACH;FMTTYPE=image/jpeg:https://thomastripp.co.uk/wp-content/uploads/2024/02/94786521_10158401603338894_5308774758349799424_n.jpg
END:VEVENT
BEGIN:VEVENT
DTSTART;TZID=UTC:20250417T210000
DTEND;TZID=UTC:20250417T230000
DTSTAMP:20260419T202740
CREATED:20250304T125827Z
LAST-MODIFIED:20250304T125928Z
UID:10001087-1744923600-1744930800@thomastripp.co.uk
SUMMARY:Jordan Watts
DESCRIPTION:Rock musician
URL:https://thomastripp.co.uk/event/jordan-watts
LOCATION:Thomas Tripp\, 10 Wick Lane\, Christchurch\, Dorset\, BH23 1HX\, United Kingdom
ATTACH;FMTTYPE=image/jpeg:https://thomastripp.co.uk/wp-content/uploads/2025/03/424591071_7732487643450334_4541610599932218262_n.jpeg
END:VEVENT
BEGIN:VEVENT
DTSTART;TZID=UTC:20250418T210000
DTEND;TZID=UTC:20250418T230000
DTSTAMP:20260419T202740
CREATED:20250304T130145Z
LAST-MODIFIED:20250304T130149Z
UID:10001088-1745010000-1745017200@thomastripp.co.uk
SUMMARY:Live music by Rooster
DESCRIPTION:Rooster is a high-energy party band with incredible 4 part harmony vocals that create an infectious good time vibe at every event. Playing songs from the 50’s to the current day they are always able play to the crowd making sure the dance floor is always full!
URL:https://thomastripp.co.uk/event/live-music-by-rooster-6
LOCATION:Thomas Tripp\, 10 Wick Lane\, Christchurch\, Dorset\, BH23 1HX\, United Kingdom
CATEGORIES:Live Music
ATTACH;FMTTYPE=image/jpeg:https://thomastripp.co.uk/wp-content/uploads/2024/02/316300021_826516601666243_223026257007795180_n.jpg
END:VEVENT
BEGIN:VEVENT
DTSTART;TZID=UTC:20250419T210000
DTEND;TZID=UTC:20250419T230000
DTSTAMP:20260419T202740
CREATED:20250307T125138Z
LAST-MODIFIED:20250307T125200Z
UID:10001096-1745096400-1745103600@thomastripp.co.uk
SUMMARY:Crash Bang Wallop
DESCRIPTION:Rock cover band featuring the incredible Chris Payn on vocals and guitar! Bringing the energy of classic rock to life with high-energy performances and timeless hits. Get ready to rock out with us!
URL:https://thomastripp.co.uk/event/crash-bang-wallop
LOCATION:Thomas Tripp\, 10 Wick Lane\, Christchurch\, Dorset\, BH23 1HX\, United Kingdom
ATTACH;FMTTYPE=image/jpeg:https://thomastripp.co.uk/wp-content/uploads/2025/03/IMG_1133.jpg
END:VEVENT
BEGIN:VEVENT
DTSTART;TZID=UTC:20250420T210000
DTEND;TZID=UTC:20250420T230000
DTSTAMP:20260419T202740
CREATED:20250304T130248Z
LAST-MODIFIED:20250304T130252Z
UID:10001089-1745182800-1745190000@thomastripp.co.uk
SUMMARY:Live Music by Vintage Dogs
DESCRIPTION:Vintage Dogs are a Poole based band\, playing classic rock n pop covers from as far afield as the 50s\, 60s\, 70s even 80s…and oh go on then…the 90s.
URL:https://thomastripp.co.uk/event/live-music-by-vintage-dogs-2
LOCATION:Thomas Tripp\, 10 Wick Lane\, Christchurch\, Dorset\, BH23 1HX\, United Kingdom
ATTACH;FMTTYPE=image/jpeg:https://thomastripp.co.uk/wp-content/uploads/2024/06/433872693_937290688404543_6889181066017898856_n.jpg
END:VEVENT
END:VCALENDAR