BEGIN:VCALENDAR
VERSION:2.0
PRODID:-//Thomas Tripp - ECPv6.15.20//NONSGML v1.0//EN
CALSCALE:GREGORIAN
METHOD:PUBLISH
X-WR-CALNAME:Thomas Tripp
X-ORIGINAL-URL:https://thomastripp.co.uk
X-WR-CALDESC:Events for Thomas Tripp
REFRESH-INTERVAL;VALUE=DURATION:PT1H
X-Robots-Tag:noindex
X-PUBLISHED-TTL:PT1H
BEGIN:VTIMEZONE
TZID:UTC
BEGIN:STANDARD
TZOFFSETFROM:+0000
TZOFFSETTO:+0000
TZNAME:UTC
DTSTART:20240101T000000
END:STANDARD
END:VTIMEZONE
BEGIN:VEVENT
DTSTART;TZID=UTC:20250317T200000
DTEND;TZID=UTC:20250317T220000
DTSTAMP:20260420T023824
CREATED:20250205T134324Z
LAST-MODIFIED:20250205T134328Z
UID:10000765-1742241600-1742248800@thomastripp.co.uk
SUMMARY:Live Music with Sixteen String Jack
DESCRIPTION:Live Music with Sixteen String Jack from 9pm. \nA 3-piece band from Dorset that combines Americana\, Irish Trad & Shanties to produce an original stripped down\, unique sound. \nThe band was formed in the summer of 2016 by Andy\, Tom & Ethan three past members of the popular Bournemouth folk punk band “The Jack Ratts”. They have developed an enthusiastic & lively experience for their audience which is guaranteed to get everybody up and dancing.
URL:https://thomastripp.co.uk/event/live-music-with-sixteen-string-jack-2
LOCATION:Thomas Tripp\, 10 Wick Lane\, Christchurch\, Dorset\, BH23 1HX\, United Kingdom
CATEGORIES:Live Music
ATTACH;FMTTYPE=image/jpeg:https://thomastripp.co.uk/wp-content/uploads/2024/02/402351048_840833838048328_8653821480588209497_n-2.jpg
END:VEVENT
BEGIN:VEVENT
DTSTART;TZID=UTC:20250321T210000
DTEND;TZID=UTC:20250321T230000
DTSTAMP:20260420T023824
CREATED:20250205T134415Z
LAST-MODIFIED:20250205T134420Z
UID:10000766-1742590800-1742598000@thomastripp.co.uk
SUMMARY:Live music by Dr Beatroot
DESCRIPTION:Live Music with Dr Beatroot from 9pm \nDr Beatroot is a 5-piece British Skifflely bluegrass band from Bournemouth. Formed in 2017\, a collection of friends hail as ‘Bunch of passing fools’ who just can’t get enough Bluegrass and Appalachian roots music. Their unique brand of entertainment fuses Percussive bluegrass\, country\, skiffle and Appalachian roots with high-energy\, traditional and newer tunes that will make you want to clap along\, stamp your feet and sing out loud!
URL:https://thomastripp.co.uk/event/live-music-by-dr-beatroot-3
LOCATION:Thomas Tripp\, 10 Wick Lane\, Christchurch\, Dorset\, BH23 1HX\, United Kingdom
CATEGORIES:Live Music
ATTACH;FMTTYPE=image/jpeg:https://thomastripp.co.uk/wp-content/uploads/2024/02/406802583_693491716095928_4347835048703714477_n.jpg
END:VEVENT
BEGIN:VEVENT
DTSTART;TZID=UTC:20250322T210000
DTEND;TZID=UTC:20250322T230000
DTSTAMP:20260420T023824
CREATED:20250205T134530Z
LAST-MODIFIED:20250205T134535Z
UID:10000767-1742677200-1742684400@thomastripp.co.uk
SUMMARY:Live Music by Shaeds
DESCRIPTION:Shaeds Music is a function covers band trio specialising in lively party rock\, pop and soul. Featuring 3 of the area’s most experienced working musicians\, Tim\, Phil and Adam will provide the perfect live music for your event\, whatever it may be!
URL:https://thomastripp.co.uk/event/live-music-by-shaeds-2
LOCATION:Thomas Tripp\, 10 Wick Lane\, Christchurch\, Dorset\, BH23 1HX\, United Kingdom
ATTACH;FMTTYPE=image/jpeg:https://thomastripp.co.uk/wp-content/uploads/2024/04/323646108_1181726402471149_2611674666010851157_n.jpg
END:VEVENT
BEGIN:VEVENT
DTSTART;TZID=UTC:20250323T150000
DTEND;TZID=UTC:20250323T170000
DTSTAMP:20260420T023824
CREATED:20250205T134626Z
LAST-MODIFIED:20250205T134632Z
UID:10000768-1742742000-1742749200@thomastripp.co.uk
SUMMARY:Live Music by Millie Watson
DESCRIPTION:Another Sunday Funday with the beautiful Millie Watson!
URL:https://thomastripp.co.uk/event/live-music-by-millie-watson-4
LOCATION:Thomas Tripp\, 10 Wick Lane\, Christchurch\, Dorset\, BH23 1HX\, United Kingdom
ATTACH;FMTTYPE=image/jpeg:https://thomastripp.co.uk/wp-content/uploads/2024/08/456053140_10169568391975045_1499324249969213081_n.jpg
END:VEVENT
END:VCALENDAR