BEGIN:VCALENDAR
VERSION:2.0
PRODID:-//Thomas Tripp - ECPv6.15.20//NONSGML v1.0//EN
CALSCALE:GREGORIAN
METHOD:PUBLISH
X-WR-CALNAME:Thomas Tripp
X-ORIGINAL-URL:https://thomastripp.co.uk
X-WR-CALDESC:Events for Thomas Tripp
REFRESH-INTERVAL;VALUE=DURATION:PT1H
X-Robots-Tag:noindex
X-PUBLISHED-TTL:PT1H
BEGIN:VTIMEZONE
TZID:UTC
BEGIN:STANDARD
TZOFFSETFROM:+0000
TZOFFSETTO:+0000
TZNAME:UTC
DTSTART:20230101T000000
END:STANDARD
END:VTIMEZONE
BEGIN:VEVENT
DTSTART;TZID=UTC:20241230T210000
DTEND;TZID=UTC:20241230T230000
DTSTAMP:20260420T201556
CREATED:20241223T103122Z
LAST-MODIFIED:20241223T103126Z
UID:10000749-1735592400-1735599600@thomastripp.co.uk
SUMMARY:Live Music by BB3
DESCRIPTION:The best are back for a special Christmas appearance! \nAll killer\, no filler 🎶
URL:https://thomastripp.co.uk/event/live-music-by-bb3-2
LOCATION:Thomas Tripp\, 10 Wick Lane\, Christchurch\, Dorset\, BH23 1HX\, United Kingdom
ATTACH;FMTTYPE=image/jpeg:https://thomastripp.co.uk/wp-content/uploads/2024/10/340979140_765455651820224_5056089554318048402_n.jpg
END:VEVENT
BEGIN:VEVENT
DTSTART;TZID=UTC:20241231T193000
DTEND;TZID=UTC:20241231T193000
DTSTAMP:20260420T201556
CREATED:20241022T153755Z
LAST-MODIFIED:20241022T153801Z
UID:10000707-1735673400-1735673400@thomastripp.co.uk
SUMMARY:NYE Party! FREE ENTRY!
DESCRIPTION:DJ Karl Butler from 7.30pm. \n𝑴𝑰𝑨𝑴𝑰 𝑮𝑨𝑵𝑫𝑨𝑳𝑭 are back for NYE giving you all the weird-ness\, 80’s shirts and of course banging live music from 10pm.
URL:https://thomastripp.co.uk/event/nye-party-free-entry
LOCATION:Thomas Tripp\, 10 Wick Lane\, Christchurch\, Dorset\, BH23 1HX\, United Kingdom
ATTACH;FMTTYPE=image/jpeg:https://thomastripp.co.uk/wp-content/uploads/2024/10/Untitled-design.jpg
END:VEVENT
BEGIN:VEVENT
DTSTART;TZID=UTC:20250103T210000
DTEND;TZID=UTC:20250103T210000
DTSTAMP:20260420T201556
CREATED:20241218T093704Z
LAST-MODIFIED:20241218T093821Z
UID:10000724-1735938000-1735938000@thomastripp.co.uk
SUMMARY:Live Music by Mudeford & Sons
DESCRIPTION:Mudeford and Sons is not your average covers band\, nor are they a Mumford and Sons tribute act. Performing acoustic covers of an eclectic range of tunes\, expect sing-alongs\, dancing and\, above all\, fun. The more you drink\, the better they are.
URL:https://thomastripp.co.uk/event/live-music-by-mudeford-sons-3
LOCATION:Thomas Tripp\, 10 Wick Lane\, Christchurch\, Dorset\, BH23 1HX\, United Kingdom
ATTACH;FMTTYPE=image/jpeg:https://thomastripp.co.uk/wp-content/uploads/2024/10/WhatsApp-Image-2024-10-24-at-14.09.04-1.jpeg
END:VEVENT
BEGIN:VEVENT
DTSTART;TZID=UTC:20250104T210000
DTEND;TZID=UTC:20250104T230000
DTSTAMP:20260420T201556
CREATED:20241223T103402Z
LAST-MODIFIED:20241223T103406Z
UID:10000750-1736024400-1736031600@thomastripp.co.uk
SUMMARY:Live Music by Deezul
DESCRIPTION:High Octane\, Contemporary/Alternative Rock & Punk Covers Band
URL:https://thomastripp.co.uk/event/live-music-by-deezul
LOCATION:Thomas Tripp\, 10 Wick Lane\, Christchurch\, Dorset\, BH23 1HX\, United Kingdom
ATTACH;FMTTYPE=image/jpeg:https://thomastripp.co.uk/wp-content/uploads/2024/12/309261113_950974852489779_9020667990712077810_n.jpg
END:VEVENT
BEGIN:VEVENT
DTSTART;TZID=UTC:20250105T150000
DTEND;TZID=UTC:20250105T150000
DTSTAMP:20260420T201556
CREATED:20241219T123229Z
LAST-MODIFIED:20241219T123433Z
UID:10000741-1736089200-1736089200@thomastripp.co.uk
SUMMARY:Live Music by David Mein
DESCRIPTION:
URL:https://thomastripp.co.uk/event/live-music-by-david-mein
LOCATION:Thomas Tripp\, 10 Wick Lane\, Christchurch\, Dorset\, BH23 1HX\, United Kingdom
ATTACH;FMTTYPE=image/jpeg:https://thomastripp.co.uk/wp-content/uploads/2024/04/243485028_1900910583427216_6963582338773901286_n.jpg
END:VEVENT
END:VCALENDAR