BEGIN:VCALENDAR
VERSION:2.0
PRODID:-//Thomas Tripp - ECPv6.15.20//NONSGML v1.0//EN
CALSCALE:GREGORIAN
METHOD:PUBLISH
X-WR-CALNAME:Thomas Tripp
X-ORIGINAL-URL:https://thomastripp.co.uk
X-WR-CALDESC:Events for Thomas Tripp
REFRESH-INTERVAL;VALUE=DURATION:PT1H
X-Robots-Tag:noindex
X-PUBLISHED-TTL:PT1H
BEGIN:VTIMEZONE
TZID:UTC
BEGIN:STANDARD
TZOFFSETFROM:+0000
TZOFFSETTO:+0000
TZNAME:UTC
DTSTART:20230101T000000
END:STANDARD
END:VTIMEZONE
BEGIN:VEVENT
DTSTART;TZID=UTC:20241224T150000
DTEND;TZID=UTC:20241224T233000
DTSTAMP:20260420T214418
CREATED:20241025T082140Z
LAST-MODIFIED:20241025T082204Z
UID:10000719-1735052400-1735083000@thomastripp.co.uk
SUMMARY:Apres Ski with We Broke Free
DESCRIPTION:We Broke Free DJ’s\, Tor Da Force and Adam Foxx will be kicking off the party with their floor fillers from 3pm \n 
URL:https://thomastripp.co.uk/event/apres-ski-with-we-broke-free
LOCATION:Thomas Tripp\, 10 Wick Lane\, Christchurch\, Dorset\, BH23 1HX\, United Kingdom
END:VEVENT
BEGIN:VEVENT
DTSTART;TZID=UTC:20241227T101400
DTEND;TZID=UTC:20241227T101400
DTSTAMP:20260420T214418
CREATED:20241023T101425Z
LAST-MODIFIED:20241025T082433Z
UID:10000713-1735294440-1735294440@thomastripp.co.uk
SUMMARY:Live Music by The 3 C's
DESCRIPTION:Matt Black\, Chris Payn and Jordan Watts – need we say more?
URL:https://thomastripp.co.uk/event/live-music-by-the-3-cs
LOCATION:Thomas Tripp\, 10 Wick Lane\, Christchurch\, Dorset\, BH23 1HX\, United Kingdom
ATTACH;FMTTYPE=image/jpeg:https://thomastripp.co.uk/wp-content/uploads/2024/10/457748220_534017079139454_5167819918783184300_n.jpg
END:VEVENT
BEGIN:VEVENT
DTSTART;TZID=UTC:20241228T210000
DTEND;TZID=UTC:20241228T210000
DTSTAMP:20260420T214418
CREATED:20241022T151700Z
LAST-MODIFIED:20241022T151705Z
UID:10000704-1735419600-1735419600@thomastripp.co.uk
SUMMARY:Live Music by Presence
DESCRIPTION:
URL:https://thomastripp.co.uk/event/live-music-by-presence-3
LOCATION:Thomas Tripp\, 10 Wick Lane\, Christchurch\, Dorset\, BH23 1HX\, United Kingdom
ATTACH;FMTTYPE=image/jpeg:https://thomastripp.co.uk/wp-content/uploads/2024/02/MUSIC-3-scaled.jpg
END:VEVENT
BEGIN:VEVENT
DTSTART;TZID=UTC:20241229T150000
DTEND;TZID=UTC:20241229T150000
DTSTAMP:20260420T214418
CREATED:20241022T151902Z
LAST-MODIFIED:20241022T151905Z
UID:10000705-1735484400-1735484400@thomastripp.co.uk
SUMMARY:Live Music by Royal T's
DESCRIPTION:The Royal T’s are a high energy three piece acoustic group\, with incredible 3 part harmony vocals that create an infectious good time vibe at every event. Playing songs from the 50’s to current day we play to the crowd making sure the dance floor is always full.
URL:https://thomastripp.co.uk/event/live-music-by-royal-ts-2
LOCATION:Thomas Tripp\, 10 Wick Lane\, Christchurch\, Dorset\, BH23 1HX\, United Kingdom
ATTACH;FMTTYPE=image/jpeg:https://thomastripp.co.uk/wp-content/uploads/2024/04/265306569_314550044005237_1596263811315831852_n.jpg
END:VEVENT
END:VCALENDAR