BEGIN:VCALENDAR
VERSION:2.0
PRODID:-//Thomas Tripp - ECPv6.15.20//NONSGML v1.0//EN
CALSCALE:GREGORIAN
METHOD:PUBLISH
X-WR-CALNAME:Thomas Tripp
X-ORIGINAL-URL:https://thomastripp.co.uk
X-WR-CALDESC:Events for Thomas Tripp
REFRESH-INTERVAL;VALUE=DURATION:PT1H
X-Robots-Tag:noindex
X-PUBLISHED-TTL:PT1H
BEGIN:VTIMEZONE
TZID:UTC
BEGIN:STANDARD
TZOFFSETFROM:+0000
TZOFFSETTO:+0000
TZNAME:UTC
DTSTART:20230101T000000
END:STANDARD
END:VTIMEZONE
BEGIN:VEVENT
DTSTART;TZID=UTC:20241217T193000
DTEND;TZID=UTC:20241217T220000
DTSTAMP:20260421T022647
CREATED:20241025T081858Z
LAST-MODIFIED:20241025T081903Z
UID:10000715-1734463800-1734472800@thomastripp.co.uk
SUMMARY:Live Music by Mudeford & Sons
DESCRIPTION:Mudeford and Sons is not your average covers band\, nor are they a Mumford and Sons tribute act. Performing acoustic covers of an eclectic range of tunes\, expect sing-alongs\, dancing and\, above all\, fun. The more you drink\, the better they are.
URL:https://thomastripp.co.uk/event/live-music-by-mudeford-sons
LOCATION:Thomas Tripp\, 10 Wick Lane\, Christchurch\, Dorset\, BH23 1HX\, United Kingdom
ATTACH;FMTTYPE=image/jpeg:https://thomastripp.co.uk/wp-content/uploads/2024/10/WhatsApp-Image-2024-10-24-at-14.09.04-1.jpeg
END:VEVENT
BEGIN:VEVENT
DTSTART;TZID=UTC:20241217T193000
DTEND;TZID=UTC:20241217T220000
DTSTAMP:20260421T022647
CREATED:20241218T093118Z
LAST-MODIFIED:20241218T093118Z
UID:10000723-1734463800-1734472800@thomastripp.co.uk
SUMMARY:Live Music by Mudeford & Sons
DESCRIPTION:Mudeford and Sons is not your average covers band\, nor are they a Mumford and Sons tribute act. Performing acoustic covers of an eclectic range of tunes\, expect sing-alongs\, dancing and\, above all\, fun. The more you drink\, the better they are.
URL:https://thomastripp.co.uk/event/live-music-by-mudeford-sons-2
LOCATION:Thomas Tripp\, 10 Wick Lane\, Christchurch\, Dorset\, BH23 1HX\, United Kingdom
ATTACH;FMTTYPE=image/jpeg:https://thomastripp.co.uk/wp-content/uploads/2024/10/WhatsApp-Image-2024-10-24-at-14.09.04-1.jpeg
END:VEVENT
BEGIN:VEVENT
DTSTART;TZID=UTC:20241220T210000
DTEND;TZID=UTC:20241220T210000
DTSTAMP:20260421T022647
CREATED:20241022T151329Z
LAST-MODIFIED:20241022T151333Z
UID:10000702-1734728400-1734728400@thomastripp.co.uk
SUMMARY:Live Music by The Transitions
DESCRIPTION:There may be only two of them\, but they can sure make some noise. They’re seasoned musicians with Glastonbury\, Camp Bestival and the one and only Thomas Tripp on their CV’s
URL:https://thomastripp.co.uk/event/live-music-by-the-transitions-2
LOCATION:Thomas Tripp\, 10 Wick Lane\, Christchurch\, Dorset\, BH23 1HX\, United Kingdom
ATTACH;FMTTYPE=image/jpeg:https://thomastripp.co.uk/wp-content/uploads/2024/07/158842440_170428388223897_1262556734570272068_n.jpg
END:VEVENT
BEGIN:VEVENT
DTSTART;TZID=UTC:20241221T210000
DTEND;TZID=UTC:20241221T210000
DTSTAMP:20260421T022647
CREATED:20241022T151420Z
LAST-MODIFIED:20241022T151425Z
UID:10000703-1734814800-1734814800@thomastripp.co.uk
SUMMARY:Live Music by The Few
DESCRIPTION:They’re back with us with a brand new frontman! A night full of rock and pop covers\, guaranteed great night with The Few on the stage.
URL:https://thomastripp.co.uk/event/live-music-by-the-few-3
LOCATION:Thomas Tripp\, 10 Wick Lane\, Christchurch\, Dorset\, BH23 1HX\, United Kingdom
ATTACH;FMTTYPE=image/jpeg:https://thomastripp.co.uk/wp-content/uploads/2024/03/425677680_1157357225402204_8959186643693190457_n.jpg
END:VEVENT
BEGIN:VEVENT
DTSTART;TZID=UTC:20241222T150000
DTEND;TZID=UTC:20241222T170000
DTSTAMP:20260421T022647
CREATED:20241023T101210Z
LAST-MODIFIED:20241023T101214Z
UID:10000712-1734879600-1734886800@thomastripp.co.uk
SUMMARY:Live Music by Gemma Hayward
DESCRIPTION:Acoustic soloist \nGemma is a local Musician specialising in Piano\, Guitar & Vocals based in Dorset\, South Coast UK
URL:https://thomastripp.co.uk/event/live-music-by-gemma-hayward
LOCATION:Thomas Tripp\, 10 Wick Lane\, Christchurch\, Dorset\, BH23 1HX\, United Kingdom
ATTACH;FMTTYPE=image/jpeg:https://thomastripp.co.uk/wp-content/uploads/2024/10/431169935_925847792883445_1636382393792356299_n.jpg
END:VEVENT
END:VCALENDAR