BEGIN:VCALENDAR
VERSION:2.0
PRODID:-//Thomas Tripp - ECPv6.15.20//NONSGML v1.0//EN
CALSCALE:GREGORIAN
METHOD:PUBLISH
X-WR-CALNAME:Thomas Tripp
X-ORIGINAL-URL:https://thomastripp.co.uk
X-WR-CALDESC:Events for Thomas Tripp
REFRESH-INTERVAL;VALUE=DURATION:PT1H
X-Robots-Tag:noindex
X-PUBLISHED-TTL:PT1H
BEGIN:VTIMEZONE
TZID:UTC
BEGIN:STANDARD
TZOFFSETFROM:+0000
TZOFFSETTO:+0000
TZNAME:UTC
DTSTART:20230101T000000
END:STANDARD
END:VTIMEZONE
BEGIN:VEVENT
DTSTART;TZID=UTC:20241204T200000
DTEND;TZID=UTC:20241204T200000
DTSTAMP:20260421T022649
CREATED:20241107T125815Z
LAST-MODIFIED:20241107T125820Z
UID:10000720-1733342400-1733342400@thomastripp.co.uk
SUMMARY:Big Xmas Quiz with Ady
DESCRIPTION:The last one was so much fun\, we thought we’d do another Bring your smartest friends£2 entry per person = CASH PRIZES!Book now – thomastripp.co.uk/reservations
URL:https://thomastripp.co.uk/event/big-xmas-quiz-with-ady
LOCATION:Thomas Tripp\, 10 Wick Lane\, Christchurch\, Dorset\, BH23 1HX\, United Kingdom
END:VEVENT
BEGIN:VEVENT
DTSTART;TZID=UTC:20241206T210000
DTEND;TZID=UTC:20241206T210000
DTSTAMP:20260421T022649
CREATED:20241107T125914Z
LAST-MODIFIED:20241107T125918Z
UID:10000721-1733518800-1733518800@thomastripp.co.uk
SUMMARY:Live music by Stereo Kings
DESCRIPTION:The band to entertain you!The Stereo Kings are four musicians playing crowd pleasers and more
URL:https://thomastripp.co.uk/event/live-music-by-stereo-kings-2
LOCATION:Thomas Tripp\, 10 Wick Lane\, Christchurch\, Dorset\, BH23 1HX\, United Kingdom
ATTACH;FMTTYPE=image/jpeg:https://thomastripp.co.uk/wp-content/uploads/2024/10/348442689_743131474178163_9186373810884534989_n.jpg
END:VEVENT
BEGIN:VEVENT
DTSTART;TZID=UTC:20241207T210000
DTEND;TZID=UTC:20241207T210000
DTSTAMP:20260421T022649
CREATED:20241022T150841Z
LAST-MODIFIED:20241022T150850Z
UID:10000698-1733605200-1733605200@thomastripp.co.uk
SUMMARY:Live Music with Sixteen String Jack
DESCRIPTION:Live Music with Sixteen String Jack from 9pm. \nA 3-piece band from Dorset that combines Americana\, Irish Trad & Shanties to produce an original stripped down\, unique sound. \nThe band was formed in the summer of 2016 by Andy\, Tom & Ethan three past members of the popular Bournemouth folk punk band “The Jack Ratts”. They have developed an enthusiastic & lively experience for their audience which is guaranteed to get everybody up and dancing.
URL:https://thomastripp.co.uk/event/live-music-with-sixteen-string-jack
LOCATION:Thomas Tripp\, 10 Wick Lane\, Christchurch\, Dorset\, BH23 1HX\, United Kingdom
CATEGORIES:Live Music
ATTACH;FMTTYPE=image/jpeg:https://thomastripp.co.uk/wp-content/uploads/2024/02/402351048_840833838048328_8653821480588209497_n-2.jpg
END:VEVENT
BEGIN:VEVENT
DTSTART;TZID=UTC:20241208T150000
DTEND;TZID=UTC:20241208T170000
DTSTAMP:20260421T022649
CREATED:20241022T150648Z
LAST-MODIFIED:20241022T150653Z
UID:10000697-1733670000-1733677200@thomastripp.co.uk
SUMMARY:Live Music by Nicole McNally
DESCRIPTION:Nicole has the voice of an angel\, paired with her ukulele you’re in for an afternoon of harmonious classics from Amy Winehouse through to Bill Withers.
URL:https://thomastripp.co.uk/event/live-music-by-nicole-mcnally-3
LOCATION:Thomas Tripp\, 10 Wick Lane\, Christchurch\, Dorset\, BH23 1HX\, United Kingdom
ATTACH;FMTTYPE=image/jpeg:https://thomastripp.co.uk/wp-content/uploads/2024/03/344751480_154288317384141_9128475127745258208_n.jpg
END:VEVENT
END:VCALENDAR