BEGIN:VCALENDAR
VERSION:2.0
PRODID:-//Thomas Tripp - ECPv6.15.20//NONSGML v1.0//EN
CALSCALE:GREGORIAN
METHOD:PUBLISH
X-WR-CALNAME:Thomas Tripp
X-ORIGINAL-URL:https://thomastripp.co.uk
X-WR-CALDESC:Events for Thomas Tripp
REFRESH-INTERVAL;VALUE=DURATION:PT1H
X-Robots-Tag:noindex
X-PUBLISHED-TTL:PT1H
BEGIN:VTIMEZONE
TZID:UTC
BEGIN:STANDARD
TZOFFSETFROM:+0000
TZOFFSETTO:+0000
TZNAME:UTC
DTSTART:20230101T000000
END:STANDARD
END:VTIMEZONE
BEGIN:VEVENT
DTSTART;TZID=UTC:20241011T210000
DTEND;TZID=UTC:20241011T230000
DTSTAMP:20260424T021902
CREATED:20240817T100148Z
LAST-MODIFIED:20240817T100151Z
UID:10000643-1728680400-1728687600@thomastripp.co.uk
SUMMARY:Live Music by The Jimmy Hillbillies
DESCRIPTION:Dorset’s finest Hoedown Stomp outfit. They specialise in a heady mix of old time Hillbilly and well known tunes mashed up with a driving beat.
URL:https://thomastripp.co.uk/event/live-music-by-the-jimmy-hillbillies-2
LOCATION:Thomas Tripp\, 10 Wick Lane\, Christchurch\, Dorset\, BH23 1HX\, United Kingdom
ATTACH;FMTTYPE=image/jpeg:https://thomastripp.co.uk/wp-content/uploads/2024/03/293190644_573214454365815_973650705061567124_n.jpg
END:VEVENT
BEGIN:VEVENT
DTSTART;TZID=UTC:20241012T210000
DTEND;TZID=UTC:20241012T230000
DTSTAMP:20260424T021902
CREATED:20240817T100225Z
LAST-MODIFIED:20240817T100229Z
UID:10000644-1728766800-1728774000@thomastripp.co.uk
SUMMARY:Live Music by The Wiseguys
DESCRIPTION:
URL:https://thomastripp.co.uk/event/live-music-by-the-wiseguys-2
LOCATION:Thomas Tripp\, 10 Wick Lane\, Christchurch\, Dorset\, BH23 1HX\, United Kingdom
ATTACH;FMTTYPE=image/jpeg:https://thomastripp.co.uk/wp-content/uploads/2024/05/438129375_890882919715719_3993231620911998141_n.jpg
END:VEVENT
BEGIN:VEVENT
DTSTART;TZID=UTC:20241013T150000
DTEND;TZID=UTC:20241013T170000
DTSTAMP:20260424T021902
CREATED:20240817T100427Z
LAST-MODIFIED:20240817T100432Z
UID:10000645-1728831600-1728838800@thomastripp.co.uk
SUMMARY:Live Music by Aaron O'Shea
DESCRIPTION:Aaron will be serenading your Sunday with a host of upbeat acoustic covers.
URL:https://thomastripp.co.uk/event/live-music-by-aaron-oshea
LOCATION:Thomas Tripp\, 10 Wick Lane\, Christchurch\, Dorset\, BH23 1HX\, United Kingdom
ATTACH;FMTTYPE=image/jpeg:https://thomastripp.co.uk/wp-content/uploads/2024/08/236983010_3060916157510968_8879463850910318950_n.jpg
END:VEVENT
END:VCALENDAR