BEGIN:VCALENDAR
VERSION:2.0
PRODID:-//Thomas Tripp - ECPv6.15.20//NONSGML v1.0//EN
CALSCALE:GREGORIAN
METHOD:PUBLISH
X-WR-CALNAME:Thomas Tripp
X-ORIGINAL-URL:https://thomastripp.co.uk
X-WR-CALDESC:Events for Thomas Tripp
REFRESH-INTERVAL;VALUE=DURATION:PT1H
X-Robots-Tag:noindex
X-PUBLISHED-TTL:PT1H
BEGIN:VTIMEZONE
TZID:UTC
BEGIN:STANDARD
TZOFFSETFROM:+0000
TZOFFSETTO:+0000
TZNAME:UTC
DTSTART:20230101T000000
END:STANDARD
END:VTIMEZONE
BEGIN:VEVENT
DTSTART;TZID=UTC:20240705T210000
DTEND;TZID=UTC:20240705T230000
DTSTAMP:20260424T052529
CREATED:20240614T083540Z
LAST-MODIFIED:20240614T083543Z
UID:10000590-1720213200-1720220400@thomastripp.co.uk
SUMMARY:Live Music by Human Radio
DESCRIPTION:Top quality function band playing ALL genres. Your new favourite radio station.
URL:https://thomastripp.co.uk/event/live-music-by-human-radio
LOCATION:Thomas Tripp\, 10 Wick Lane\, Christchurch\, Dorset\, BH23 1HX\, United Kingdom
ATTACH;FMTTYPE=image/jpeg:https://thomastripp.co.uk/wp-content/uploads/2024/06/442409789_337581522684247_493205505308296730_n.jpg
END:VEVENT
BEGIN:VEVENT
DTSTART;TZID=UTC:20240706T210000
DTEND;TZID=UTC:20240706T210000
DTSTAMP:20260424T052529
CREATED:20240614T083625Z
LAST-MODIFIED:20240614T083629Z
UID:10000591-1720299600-1720299600@thomastripp.co.uk
SUMMARY:Live Music by Essential Party Band
DESCRIPTION:The Essential Party Band are an exciting\, energetic\, soulful function and wedding band.
URL:https://thomastripp.co.uk/event/live-music-by-essential-party-band-2
LOCATION:Thomas Tripp\, 10 Wick Lane\, Christchurch\, Dorset\, BH23 1HX\, United Kingdom
ATTACH;FMTTYPE=image/jpeg:https://thomastripp.co.uk/wp-content/uploads/2024/03/337149319_1383905842359176_6935132769293630737_n.jpg
END:VEVENT
BEGIN:VEVENT
DTSTART;TZID=UTC:20240707T150000
DTEND;TZID=UTC:20240707T170000
DTSTAMP:20260424T052529
CREATED:20240614T083912Z
LAST-MODIFIED:20240614T083915Z
UID:10000592-1720364400-1720371600@thomastripp.co.uk
SUMMARY:Live Music by Sleepy Jake
DESCRIPTION:Acoustic tunes with Jake and his guitar
URL:https://thomastripp.co.uk/event/live-music-by-sleepy-jake
LOCATION:Thomas Tripp\, 10 Wick Lane\, Christchurch\, Dorset\, BH23 1HX\, United Kingdom
ATTACH;FMTTYPE=image/jpeg:https://thomastripp.co.uk/wp-content/uploads/2024/02/MUSIC-3-scaled.jpg
END:VEVENT
END:VCALENDAR