BEGIN:VCALENDAR
VERSION:2.0
PRODID:-//Thomas Tripp - ECPv6.15.20//NONSGML v1.0//EN
CALSCALE:GREGORIAN
METHOD:PUBLISH
X-ORIGINAL-URL:https://thomastripp.co.uk
X-WR-CALDESC:Events for Thomas Tripp
REFRESH-INTERVAL;VALUE=DURATION:PT1H
X-Robots-Tag:noindex
X-PUBLISHED-TTL:PT1H
BEGIN:VTIMEZONE
TZID:UTC
BEGIN:STANDARD
TZOFFSETFROM:+0000
TZOFFSETTO:+0000
TZNAME:UTC
DTSTART:20230101T000000
END:STANDARD
END:VTIMEZONE
BEGIN:VEVENT
DTSTART;TZID=UTC:20240628T193000
DTEND;TZID=UTC:20240628T220000
DTSTAMP:20260424T115815
CREATED:20240623T125513Z
LAST-MODIFIED:20240623T125516Z
UID:10000606-1719603000-1719612000@thomastripp.co.uk
SUMMARY:DJ Jay Rachet
DESCRIPTION:The legendary DJ Jay Rachet will be joining us from 7:30pm spinning his floor fillers and warming up for our live band at 10pm!
URL:https://thomastripp.co.uk/event/dj-jay-rachet-4
LOCATION:Thomas Tripp\, 10 Wick Lane\, Christchurch\, Dorset\, BH23 1HX\, United Kingdom
ATTACH;FMTTYPE=image/jpeg:https://thomastripp.co.uk/wp-content/uploads/2024/02/313206396_2975197319447990_2391719232741143495_n-2.jpg
END:VEVENT
BEGIN:VEVENT
DTSTART;TZID=UTC:20240628T220000
DTEND;TZID=UTC:20240628T220000
DTSTAMP:20260424T115815
CREATED:20240515T173736Z
LAST-MODIFIED:20240623T125405Z
UID:10000587-1719612000-1719612000@thomastripp.co.uk
SUMMARY:Live Music by Six & Sax
DESCRIPTION:We are a 7 piece band\, playing an eclectic mix of covers in venues across Hampshire and Dorset
URL:https://thomastripp.co.uk/event/live-music-by-six-sax
LOCATION:Thomas Tripp\, 10 Wick Lane\, Christchurch\, Dorset\, BH23 1HX\, United Kingdom
ATTACH;FMTTYPE=image/jpeg:https://thomastripp.co.uk/wp-content/uploads/2024/05/314894990_416193110724778_831819212112562860_n.jpg
END:VEVENT
BEGIN:VEVENT
DTSTART;TZID=UTC:20240629T210000
DTEND;TZID=UTC:20240629T230000
DTSTAMP:20260424T115815
CREATED:20240515T174101Z
LAST-MODIFIED:20240515T174123Z
UID:10000588-1719694800-1719702000@thomastripp.co.uk
SUMMARY:Live Music by The Kingsmen
DESCRIPTION:Purveyors of the finest quality funky rock n’ roll. Never knowingly undersouled.
URL:https://thomastripp.co.uk/event/live-music-by-the-kingsmen
LOCATION:Thomas Tripp\, 10 Wick Lane\, Christchurch\, Dorset\, BH23 1HX\, United Kingdom
ATTACH;FMTTYPE=image/jpeg:https://thomastripp.co.uk/wp-content/uploads/2024/05/49332824_377268856369119_3300270599871397888_n.jpg
END:VEVENT
BEGIN:VEVENT
DTSTART;TZID=UTC:20240630T150000
DTEND;TZID=UTC:20240630T150000
DTSTAMP:20260424T115815
CREATED:20240515T174201Z
LAST-MODIFIED:20240515T174207Z
UID:10000589-1719759600-1719759600@thomastripp.co.uk
SUMMARY:Live music by George Holloway
DESCRIPTION:Live Music with George Holloway from 3pm \nGeorge is an acoustic performer with a vast array of upbeat music spanning the decades
URL:https://thomastripp.co.uk/event/live-music-by-george-holloway-2
LOCATION:Thomas Tripp\, 10 Wick Lane\, Christchurch\, Dorset\, BH23 1HX\, United Kingdom
CATEGORIES:Live Music
ATTACH;FMTTYPE=image/jpeg:https://thomastripp.co.uk/wp-content/uploads/2024/02/George-Holloway-Live-Music-Web.jpg
END:VEVENT
END:VCALENDAR