BEGIN:VCALENDAR
VERSION:2.0
PRODID:-//Thomas Tripp - ECPv6.15.20//NONSGML v1.0//EN
CALSCALE:GREGORIAN
METHOD:PUBLISH
X-WR-CALNAME:Thomas Tripp
X-ORIGINAL-URL:https://thomastripp.co.uk
X-WR-CALDESC:Events for Thomas Tripp
REFRESH-INTERVAL;VALUE=DURATION:PT1H
X-Robots-Tag:noindex
X-PUBLISHED-TTL:PT1H
BEGIN:VTIMEZONE
TZID:UTC
BEGIN:STANDARD
TZOFFSETFROM:+0000
TZOFFSETTO:+0000
TZNAME:UTC
DTSTART:20230101T000000
END:STANDARD
END:VTIMEZONE
BEGIN:VEVENT
DTSTART;TZID=UTC:20240802T210000
DTEND;TZID=UTC:20240802T210000
DTSTAMP:20260424T021653
CREATED:20240710T110402Z
LAST-MODIFIED:20240710T110405Z
UID:10000607-1722632400-1722632400@thomastripp.co.uk
SUMMARY:Live music by Out of Order
DESCRIPTION:Indie Rock covers band bringing a mix of The Jam\, Stereophonics\, Foo Fighters\, Hendrix\, and The Doors plus many more – if you love your rock with a new wave edge\, you’ve found your tribe with them!
URL:https://thomastripp.co.uk/event/live-music-by-out-of-order
LOCATION:Thomas Tripp\, 10 Wick Lane\, Christchurch\, Dorset\, BH23 1HX\, United Kingdom
ATTACH;FMTTYPE=image/jpeg:https://thomastripp.co.uk/wp-content/uploads/2024/03/41438870_289338664997501_2711871723975737344_n.jpg
END:VEVENT
BEGIN:VEVENT
DTSTART;TZID=UTC:20240803T210000
DTEND;TZID=UTC:20240803T210000
DTSTAMP:20260424T021653
CREATED:20240710T110430Z
LAST-MODIFIED:20240710T110433Z
UID:10000608-1722718800-1722718800@thomastripp.co.uk
SUMMARY:Live Music by Loose Chippings
DESCRIPTION:Experienced covers band\, playing songs from the 60’s to the present.
URL:https://thomastripp.co.uk/event/live-music-by-loose-chippings-2
LOCATION:Thomas Tripp\, 10 Wick Lane\, Christchurch\, Dorset\, BH23 1HX\, United Kingdom
ATTACH;FMTTYPE=image/jpeg:https://thomastripp.co.uk/wp-content/uploads/2024/04/313428424_589339346530600_2318894289641256099_n.jpg
END:VEVENT
BEGIN:VEVENT
DTSTART;TZID=UTC:20240804T150000
DTEND;TZID=UTC:20240804T170000
DTSTAMP:20260424T021653
CREATED:20240710T110455Z
LAST-MODIFIED:20240710T110459Z
UID:10000609-1722783600-1722790800@thomastripp.co.uk
SUMMARY:Live Music by Gavin Munn
DESCRIPTION:Gavin will be serenading your Sunday with a host of upbeat acoustic covers. You may have seen him before as the charismatic frontman of the electric Audio Allstars and tribute band The 80’s!
URL:https://thomastripp.co.uk/event/live-music-by-gavin-munn-3
LOCATION:Thomas Tripp\, 10 Wick Lane\, Christchurch\, Dorset\, BH23 1HX\, United Kingdom
ATTACH;FMTTYPE=image/jpeg:https://thomastripp.co.uk/wp-content/uploads/2024/03/284395621_1053349025575803_5973665861028927020_n-2.jpg
END:VEVENT
BEGIN:VEVENT
DTSTART;TZID=UTC:20240809T210000
DTEND;TZID=UTC:20240809T210000
DTSTAMP:20260424T021653
CREATED:20240710T110731Z
LAST-MODIFIED:20240710T110734Z
UID:10000610-1723237200-1723237200@thomastripp.co.uk
SUMMARY:Live Music by The Transitions
DESCRIPTION:There may be only two of them\, but they can sure make some noise. They’re seasoned musicians with Glastonbury\, Camp Bestival and the one and only Thomas Tripp on their CV’s
URL:https://thomastripp.co.uk/event/live-music-by-the-transitions
LOCATION:Thomas Tripp\, 10 Wick Lane\, Christchurch\, Dorset\, BH23 1HX\, United Kingdom
ATTACH;FMTTYPE=image/jpeg:https://thomastripp.co.uk/wp-content/uploads/2024/07/158842440_170428388223897_1262556734570272068_n.jpg
END:VEVENT
BEGIN:VEVENT
DTSTART;TZID=UTC:20240810T210000
DTEND;TZID=UTC:20240810T210000
DTSTAMP:20260424T021653
CREATED:20240710T110851Z
LAST-MODIFIED:20240710T110854Z
UID:10000611-1723323600-1723323600@thomastripp.co.uk
SUMMARY:Live Music by Funk 54
DESCRIPTION:Do you love that funky beat? Do you enjoy powerful\, soulful vocals? Do you need some funk back in your life? Then Funk54 have the remedy!
URL:https://thomastripp.co.uk/event/live-music-by-funk-54
LOCATION:Thomas Tripp\, 10 Wick Lane\, Christchurch\, Dorset\, BH23 1HX\, United Kingdom
ATTACH;FMTTYPE=image/jpeg:https://thomastripp.co.uk/wp-content/uploads/2024/07/438795826_10163371535677067_8504554668293837896_n.jpg
END:VEVENT
BEGIN:VEVENT
DTSTART;TZID=UTC:20240811T150000
DTEND;TZID=UTC:20240811T170000
DTSTAMP:20260424T021653
CREATED:20240710T110937Z
LAST-MODIFIED:20240710T110940Z
UID:10000612-1723388400-1723395600@thomastripp.co.uk
SUMMARY:Live Music by Aimee Sarah and The Jam
DESCRIPTION:Another Sunday Funday with this awesome trio!
URL:https://thomastripp.co.uk/event/live-music-by-aimee-sarah-and-the-jam
LOCATION:Thomas Tripp\, 10 Wick Lane\, Christchurch\, Dorset\, BH23 1HX\, United Kingdom
ATTACH;FMTTYPE=image/jpeg:https://thomastripp.co.uk/wp-content/uploads/2024/04/434423957_340384965700864_8403398799476811020_n.jpg
END:VEVENT
BEGIN:VEVENT
DTSTART;VALUE=DATE:20240816
DTEND;VALUE=DATE:20240819
DTSTAMP:20260424T021653
CREATED:20240710T111231Z
LAST-MODIFIED:20240710T111234Z
UID:10000613-1723766400-1724025599@thomastripp.co.uk
SUMMARY:TRIBUTES WEEKENDER
DESCRIPTION:All of the best tributes including Paul Weller\, Meat Loaf\, Abba and Elvis plus awesome local DJ’s come together for one weekend every year at the Thomas Tripp. This years line up looks a little like this: \n 
URL:https://thomastripp.co.uk/event/tributes-weekender
LOCATION:Thomas Tripp\, 10 Wick Lane\, Christchurch\, Dorset\, BH23 1HX\, United Kingdom
END:VEVENT
BEGIN:VEVENT
DTSTART;TZID=UTC:20240823T210000
DTEND;TZID=UTC:20240823T230000
DTSTAMP:20260424T021653
CREATED:20240817T092453Z
LAST-MODIFIED:20240817T092532Z
UID:10000620-1724446800-1724454000@thomastripp.co.uk
SUMMARY:Live Music by Jake Among The Willows
DESCRIPTION:Jake Among The Willows is a fusion of colourful Folk and World music\, with hints of swampy blues.
URL:https://thomastripp.co.uk/event/live-music-by-jake-among-the-willows-2
LOCATION:Thomas Tripp\, 10 Wick Lane\, Christchurch\, Dorset\, BH23 1HX\, United Kingdom
ATTACH;FMTTYPE=image/jpeg:https://thomastripp.co.uk/wp-content/uploads/2024/07/355440128_702397121896654_8194359419446443884_n.jpg
END:VEVENT
BEGIN:VEVENT
DTSTART;TZID=UTC:20240824T210000
DTEND;TZID=UTC:20240824T230000
DTSTAMP:20260424T021653
CREATED:20240710T111517Z
LAST-MODIFIED:20240710T111520Z
UID:10000615-1724533200-1724540400@thomastripp.co.uk
SUMMARY:Live music by The Mabels
DESCRIPTION:The Mabels are a group of highly accomplished musicians that know how to put on a show to remember!!
URL:https://thomastripp.co.uk/event/live-music-by-the-mabels-2
LOCATION:Thomas Tripp\, 10 Wick Lane\, Christchurch\, Dorset\, BH23 1HX\, United Kingdom
ATTACH;FMTTYPE=image/jpeg:https://thomastripp.co.uk/wp-content/uploads/2024/06/300159707_486860416779396_1149209857580550510_n.jpg
END:VEVENT
BEGIN:VEVENT
DTSTART;TZID=UTC:20240825T210000
DTEND;TZID=UTC:20240825T230000
DTSTAMP:20260424T021653
CREATED:20240710T112014Z
LAST-MODIFIED:20240710T112018Z
UID:10000616-1724619600-1724626800@thomastripp.co.uk
SUMMARY:Live music by Scout Hut
DESCRIPTION:Scout Hut are predominantly a Blues Trio\, playing new and old tracks with an original twist.
URL:https://thomastripp.co.uk/event/live-music-by-scout-hut
LOCATION:Thomas Tripp\, 10 Wick Lane\, Christchurch\, Dorset\, BH23 1HX\, United Kingdom
ATTACH;FMTTYPE=image/jpeg:https://thomastripp.co.uk/wp-content/uploads/2024/07/292477773_450222390444661_4604550040363317889_n.jpg
END:VEVENT
BEGIN:VEVENT
DTSTART;TZID=UTC:20240830T200000
DTEND;TZID=UTC:20240830T233000
DTSTAMP:20260424T021653
CREATED:20240710T112445Z
LAST-MODIFIED:20240710T112451Z
UID:10000605-1725048000-1725060600@thomastripp.co.uk
SUMMARY:DJ Jay Rachet
DESCRIPTION:The legendary DJ Jay Rachet will be joining us from 8 spinning his floor fillers until late…
URL:https://thomastripp.co.uk/event/dj-jay-rachet-5
LOCATION:Thomas Tripp\, 10 Wick Lane\, Christchurch\, Dorset\, BH23 1HX\, United Kingdom
ATTACH;FMTTYPE=image/jpeg:https://thomastripp.co.uk/wp-content/uploads/2024/02/313206396_2975197319447990_2391719232741143495_n-2.jpg
END:VEVENT
BEGIN:VEVENT
DTSTART;TZID=UTC:20240830T210000
DTEND;TZID=UTC:20240830T210000
DTSTAMP:20260424T021653
CREATED:20240710T112342Z
LAST-MODIFIED:20240710T112348Z
UID:10000618-1725051600-1725051600@thomastripp.co.uk
SUMMARY:Live music by Alternate Versions
DESCRIPTION:Alternate Versions are a covers band that can be booked in different formats to cover any occasion.
URL:https://thomastripp.co.uk/event/live-music-by-alternate-versions
LOCATION:Thomas Tripp\, 10 Wick Lane\, Christchurch\, Dorset\, BH23 1HX\, United Kingdom
CATEGORIES:Live Music
ATTACH;FMTTYPE=image/jpeg:https://thomastripp.co.uk/wp-content/uploads/2024/07/240592988_806049076753028_468655587745814264_n.jpg
END:VEVENT
BEGIN:VEVENT
DTSTART;TZID=UTC:20240831T210000
DTEND;TZID=UTC:20240831T230000
DTSTAMP:20260424T021653
CREATED:20240710T112637Z
LAST-MODIFIED:20240829T110432Z
UID:10000619-1725138000-1725145200@thomastripp.co.uk
SUMMARY:Live Music by The Wonky Donkeys
DESCRIPTION:The Wonky Donkeys\, four musicians all heavily associated with the music scene on the South Coast.
URL:https://thomastripp.co.uk/event/live-music-by-the-wonky-donkeys
LOCATION:Thomas Tripp\, 10 Wick Lane\, Christchurch\, Dorset\, BH23 1HX\, United Kingdom
ATTACH;FMTTYPE=image/jpeg:https://thomastripp.co.uk/wp-content/uploads/2024/07/274631043_106814491949863_322501462649075978_n.jpg
END:VEVENT
END:VCALENDAR