BEGIN:VCALENDAR
VERSION:2.0
PRODID:-//Thomas Tripp - ECPv6.15.20//NONSGML v1.0//EN
CALSCALE:GREGORIAN
METHOD:PUBLISH
X-WR-CALNAME:Thomas Tripp
X-ORIGINAL-URL:https://thomastripp.co.uk
X-WR-CALDESC:Events for Thomas Tripp
REFRESH-INTERVAL;VALUE=DURATION:PT1H
X-Robots-Tag:noindex
X-PUBLISHED-TTL:PT1H
BEGIN:VTIMEZONE
TZID:UTC
BEGIN:STANDARD
TZOFFSETFROM:+0000
TZOFFSETTO:+0000
TZNAME:UTC
DTSTART:20230101T000000
END:STANDARD
END:VTIMEZONE
BEGIN:VEVENT
DTSTART;TZID=UTC:20250308T210000
DTEND;TZID=UTC:20250308T210000
DTSTAMP:20260419T174845
CREATED:20250205T133420Z
LAST-MODIFIED:20250205T133425Z
UID:10000760-1741467600-1741467600@thomastripp.co.uk
SUMMARY:Live music by Cooley and The Gang
DESCRIPTION:  \nHailing from Dorset\, Peter Cooley regularly fills dance floors with his funk\, classic soul\, disco and contemporary pop covers. Join him and The Gang for a night of floor fillers!
URL:https://thomastripp.co.uk/event/live-music-by-cooley-and-the-gang-3
LOCATION:Thomas Tripp\, 10 Wick Lane\, Christchurch\, Dorset\, BH23 1HX\, United Kingdom
CATEGORIES:Live Music
ATTACH;FMTTYPE=image/jpeg:https://thomastripp.co.uk/wp-content/uploads/2024/02/326262974_1584416558738662_449109296273486542_n.jpg
END:VEVENT
BEGIN:VEVENT
DTSTART;TZID=UTC:20250307T210000
DTEND;TZID=UTC:20250307T230000
DTSTAMP:20260419T174845
CREATED:20250205T133225Z
LAST-MODIFIED:20250205T133229Z
UID:10000759-1741381200-1741388400@thomastripp.co.uk
SUMMARY:Live music by Skyfall
DESCRIPTION:Live Music with Skyfall \nStarting the bank holiday weekend as we mean to go on!
URL:https://thomastripp.co.uk/event/live-music-by-skyfall-3
LOCATION:Thomas Tripp\, 10 Wick Lane\, Christchurch\, Dorset\, BH23 1HX\, United Kingdom
CATEGORIES:Live Music
ATTACH;FMTTYPE=image/jpeg:https://thomastripp.co.uk/wp-content/uploads/2024/02/348456627_2579293255555059_160912542378030349_n.jpg
END:VEVENT
BEGIN:VEVENT
DTSTART;TZID=UTC:20250302T150000
DTEND;TZID=UTC:20250302T170000
DTSTAMP:20260419T174845
CREATED:20250205T133100Z
LAST-MODIFIED:20250205T133105Z
UID:10000758-1740927600-1740934800@thomastripp.co.uk
SUMMARY:Live music by Helena Mace
DESCRIPTION:UK Female country artist
URL:https://thomastripp.co.uk/event/live-music-by-helena-mace
LOCATION:Thomas Tripp\, 10 Wick Lane\, Christchurch\, Dorset\, BH23 1HX\, United Kingdom
CATEGORIES:Live Music
ATTACH;FMTTYPE=image/jpeg:https://thomastripp.co.uk/wp-content/uploads/2025/02/471990651_975864324358129_2246928989679247169_n.jpeg
END:VEVENT
BEGIN:VEVENT
DTSTART;TZID=UTC:20250301T210000
DTEND;TZID=UTC:20250301T230000
DTSTAMP:20260419T174845
CREATED:20250205T132612Z
LAST-MODIFIED:20250205T132636Z
UID:10000757-1740862800-1740870000@thomastripp.co.uk
SUMMARY:Live music by Chill
DESCRIPTION:A chill party band plays laid-back\, upbeat music that creates a fun\, relaxed vibe.
URL:https://thomastripp.co.uk/event/live-music-by-chill
LOCATION:Thomas Tripp\, 10 Wick Lane\, Christchurch\, Dorset\, BH23 1HX\, United Kingdom
CATEGORIES:Live Music
ATTACH;FMTTYPE=image/jpeg:https://thomastripp.co.uk/wp-content/uploads/2024/02/MUSIC-3-scaled.jpg
END:VEVENT
BEGIN:VEVENT
DTSTART;TZID=UTC:20250228T210000
DTEND;TZID=UTC:20250228T230000
DTSTAMP:20260419T174845
CREATED:20250205T131913Z
LAST-MODIFIED:20250205T131918Z
UID:10000756-1740776400-1740783600@thomastripp.co.uk
SUMMARY:Live music by The Alibi
DESCRIPTION:The Alibi are a Rock Covers Band from Bournemouth\, Dorset UK. Playing covers from the present day to pop
URL:https://thomastripp.co.uk/event/live-music-by-the-alibi-2
LOCATION:Thomas Tripp\, 10 Wick Lane\, Christchurch\, Dorset\, BH23 1HX\, United Kingdom
CATEGORIES:Live Music
ATTACH;FMTTYPE=image/jpeg:https://thomastripp.co.uk/wp-content/uploads/2024/02/348456627_2579293255555059_160912542378030349_n.jpg
END:VEVENT
BEGIN:VEVENT
DTSTART;TZID=UTC:20250223T130000
DTEND;TZID=UTC:20250223T150000
DTSTAMP:20260419T174845
CREATED:20250205T131742Z
LAST-MODIFIED:20250205T131748Z
UID:10000755-1740315600-1740322800@thomastripp.co.uk
SUMMARY:Live music by Tim Somerfield
DESCRIPTION:Tim Somerfield is an acoustic soloist known for a distinctive blend of soul\, indie\, and rock influences. With a focus on skillful guitar work and thoughtful lyrics\, Tim delivers engaging performances that connect with a wide range of audiences.
URL:https://thomastripp.co.uk/event/live-music-by-tim-somerfield
LOCATION:Thomas Tripp\, 10 Wick Lane\, Christchurch\, Dorset\, BH23 1HX\, United Kingdom
CATEGORIES:Live Music
ATTACH;FMTTYPE=image/jpeg:https://thomastripp.co.uk/wp-content/uploads/2025/02/469092343_883219113798311_3713524179465773963_n.jpeg
END:VEVENT
BEGIN:VEVENT
DTSTART;TZID=UTC:20250215T210000
DTEND;TZID=UTC:20250215T230000
DTSTAMP:20260419T174845
CREATED:20240614T084655Z
LAST-MODIFIED:20241223T104159Z
UID:10000597-1739653200-1739660400@thomastripp.co.uk
SUMMARY:Live music by Kaboodle
DESCRIPTION:Live Music with Kaboodle \nFormed in 2017\, Kaboodle are experienced and committed musicians who simply enjoy playing an eclectic mix of rock\, blues\, R&B\, soul and reggae from the 60’s to the noughties – “the whole kit and Kaboodle!”
URL:https://thomastripp.co.uk/event/live-music-by-kaboodle-2
LOCATION:Thomas Tripp\, 10 Wick Lane\, Christchurch\, Dorset\, BH23 1HX\, United Kingdom
CATEGORIES:Live Music
ATTACH;FMTTYPE=image/jpeg:https://thomastripp.co.uk/wp-content/uploads/2024/02/305485571_508171494644550_9152450765312181271_n.jpg
END:VEVENT
BEGIN:VEVENT
DTSTART;TZID=UTC:20250125T210000
DTEND;TZID=UTC:20250125T230000
DTSTAMP:20260419T174845
CREATED:20241218T095818Z
LAST-MODIFIED:20241218T103313Z
UID:10000734-1737838800-1737846000@thomastripp.co.uk
SUMMARY:Live music by Rooster
DESCRIPTION:Rooster is a high-energy party band with incredible 4 part harmony vocals that create an infectious good time vibe at every event. Playing songs from the 50’s to the current day they are always able play to the crowd making sure the dance floor is always full!
URL:https://thomastripp.co.uk/event/live-music-by-rooster-5
LOCATION:Thomas Tripp\, 10 Wick Lane\, Christchurch\, Dorset\, BH23 1HX\, United Kingdom
CATEGORIES:Live Music
ATTACH;FMTTYPE=image/jpeg:https://thomastripp.co.uk/wp-content/uploads/2024/02/316300021_826516601666243_223026257007795180_n.jpg
END:VEVENT
BEGIN:VEVENT
DTSTART;TZID=UTC:20250119T150000
DTEND;TZID=UTC:20250119T170000
DTSTAMP:20260419T174845
CREATED:20241218T094849Z
LAST-MODIFIED:20241218T094855Z
UID:10000730-1737298800-1737306000@thomastripp.co.uk
SUMMARY:Live music by MLC
DESCRIPTION:Live Music with MLC from 3pm \nEveryones favourite trio will be joining us for an afternoon of chilled out tunes
URL:https://thomastripp.co.uk/event/live-music-by-mlc-3
LOCATION:Thomas Tripp\, 10 Wick Lane\, Christchurch\, Dorset\, BH23 1HX\, United Kingdom
CATEGORIES:Live Music
ATTACH;FMTTYPE=image/jpeg:https://thomastripp.co.uk/wp-content/uploads/2024/02/CMM_061-scaled.jpg
END:VEVENT
BEGIN:VEVENT
DTSTART;TZID=UTC:20250112T150000
DTEND;TZID=UTC:20250112T170000
DTSTAMP:20260419T174845
CREATED:20241223T103930Z
LAST-MODIFIED:20241223T103934Z
UID:10000751-1736694000-1736701200@thomastripp.co.uk
SUMMARY:Live music by P R Dewhurst
DESCRIPTION:Live Music with P R Dewhurst \n 
URL:https://thomastripp.co.uk/event/live-music-by-p-r-dewhurst-5
LOCATION:Thomas Tripp\, 10 Wick Lane\, Christchurch\, Dorset\, BH23 1HX\, United Kingdom
CATEGORIES:Live Music
ATTACH;FMTTYPE=image/jpeg:https://thomastripp.co.uk/wp-content/uploads/2024/02/277819885_343774794457485_2912552769000094855_n-1.jpg
END:VEVENT
BEGIN:VEVENT
DTSTART;TZID=UTC:20241213T210000
DTEND;TZID=UTC:20241213T210000
DTSTAMP:20260419T174845
CREATED:20241022T151022Z
LAST-MODIFIED:20241022T151026Z
UID:10000699-1734123600-1734123600@thomastripp.co.uk
SUMMARY:Live music by Rooster
DESCRIPTION:Rooster is a high-energy party band with incredible 4 part harmony vocals that create an infectious good time vibe at every event. Playing songs from the 50’s to the current day they are always able play to the crowd making sure the dance floor is always full!
URL:https://thomastripp.co.uk/event/live-music-by-rooster-4
LOCATION:Thomas Tripp\, 10 Wick Lane\, Christchurch\, Dorset\, BH23 1HX\, United Kingdom
CATEGORIES:Live Music
ATTACH;FMTTYPE=image/jpeg:https://thomastripp.co.uk/wp-content/uploads/2024/02/316300021_826516601666243_223026257007795180_n.jpg
END:VEVENT
BEGIN:VEVENT
DTSTART;TZID=UTC:20241207T210000
DTEND;TZID=UTC:20241207T210000
DTSTAMP:20260419T174845
CREATED:20241022T150841Z
LAST-MODIFIED:20241022T150850Z
UID:10000698-1733605200-1733605200@thomastripp.co.uk
SUMMARY:Live Music with Sixteen String Jack
DESCRIPTION:Live Music with Sixteen String Jack from 9pm. \nA 3-piece band from Dorset that combines Americana\, Irish Trad & Shanties to produce an original stripped down\, unique sound. \nThe band was formed in the summer of 2016 by Andy\, Tom & Ethan three past members of the popular Bournemouth folk punk band “The Jack Ratts”. They have developed an enthusiastic & lively experience for their audience which is guaranteed to get everybody up and dancing.
URL:https://thomastripp.co.uk/event/live-music-with-sixteen-string-jack
LOCATION:Thomas Tripp\, 10 Wick Lane\, Christchurch\, Dorset\, BH23 1HX\, United Kingdom
CATEGORIES:Live Music
ATTACH;FMTTYPE=image/jpeg:https://thomastripp.co.uk/wp-content/uploads/2024/02/402351048_840833838048328_8653821480588209497_n-2.jpg
END:VEVENT
BEGIN:VEVENT
DTSTART;TZID=UTC:20241129T210000
DTEND;TZID=UTC:20241129T210000
DTSTAMP:20260419T174845
CREATED:20240817T092631Z
LAST-MODIFIED:20241022T145408Z
UID:10000622-1732914000-1732914000@thomastripp.co.uk
SUMMARY:Live music by Rooster
DESCRIPTION:Rooster is a high-energy party band with incredible 4 part harmony vocals that create an infectious good time vibe at every event. Playing songs from the 50’s to the current day they are always able play to the crowd making sure the dance floor is always full!
URL:https://thomastripp.co.uk/event/live-music-by-rooster-3
LOCATION:Thomas Tripp\, 10 Wick Lane\, Christchurch\, Dorset\, BH23 1HX\, United Kingdom
CATEGORIES:Live Music
ATTACH;FMTTYPE=image/jpeg:https://thomastripp.co.uk/wp-content/uploads/2024/02/316300021_826516601666243_223026257007795180_n.jpg
END:VEVENT
BEGIN:VEVENT
DTSTART;TZID=UTC:20241122T210000
DTEND;TZID=UTC:20241122T210000
DTSTAMP:20260419T174845
CREATED:20241022T144703Z
LAST-MODIFIED:20241022T144732Z
UID:10000690-1732309200-1732309200@thomastripp.co.uk
SUMMARY:Live music by Cooley and The Gang
DESCRIPTION:  \nHailing from Dorset\, Peter Cooley regularly fills dance floors with his funk\, classic soul\, disco and contemporary pop covers. Join him and The Gang for a night of floor fillers!
URL:https://thomastripp.co.uk/event/live-music-by-cooley-and-the-gang-2
LOCATION:Thomas Tripp\, 10 Wick Lane\, Christchurch\, Dorset\, BH23 1HX\, United Kingdom
CATEGORIES:Live Music
ATTACH;FMTTYPE=image/jpeg:https://thomastripp.co.uk/wp-content/uploads/2024/02/326262974_1584416558738662_449109296273486542_n.jpg
END:VEVENT
BEGIN:VEVENT
DTSTART;TZID=UTC:20241110T150000
DTEND;TZID=UTC:20241110T150000
DTSTAMP:20260419T174845
CREATED:20241022T144207Z
LAST-MODIFIED:20241022T144216Z
UID:10000689-1731250800-1731250800@thomastripp.co.uk
SUMMARY:Live music by George Holloway
DESCRIPTION:Live Music with George Holloway from 3pm \nGeorge is an acoustic performer with a vast array of upbeat music spanning the decades
URL:https://thomastripp.co.uk/event/live-music-by-george-holloway-3
LOCATION:Thomas Tripp\, 10 Wick Lane\, Christchurch\, Dorset\, BH23 1HX\, United Kingdom
CATEGORIES:Live Music
ATTACH;FMTTYPE=image/jpeg:https://thomastripp.co.uk/wp-content/uploads/2024/02/George-Holloway-Live-Music-Web.jpg
END:VEVENT
BEGIN:VEVENT
DTSTART;TZID=UTC:20241109T210000
DTEND;TZID=UTC:20241109T230000
DTSTAMP:20260419T174845
CREATED:20241016T152843Z
LAST-MODIFIED:20241016T152853Z
UID:10000688-1731186000-1731193200@thomastripp.co.uk
SUMMARY:Live music by We Are Robot
DESCRIPTION:Live Music with We Are Robot from 9pm \nOver the years\, they have become one of the most popular function bands on the south coast. \nThe blend of two acoustic guitars and great attention to vocal harmonies lend well to faithfully recreating popular tunes from the past decades.
URL:https://thomastripp.co.uk/event/live-music-by-we-are-robot-3
LOCATION:Thomas Tripp\, 10 Wick Lane\, Christchurch\, Dorset\, BH23 1HX\, United Kingdom
CATEGORIES:Live Music
ATTACH;FMTTYPE=image/jpeg:https://thomastripp.co.uk/wp-content/uploads/2024/02/278441701_2099638053544122_5521715448162015115_n.jpg
END:VEVENT
BEGIN:VEVENT
DTSTART;TZID=UTC:20241108T210000
DTEND;TZID=UTC:20241108T230000
DTSTAMP:20260419T174845
CREATED:20240215T113451Z
LAST-MODIFIED:20241016T150206Z
UID:10000280-1731099600-1731106800@thomastripp.co.uk
SUMMARY:Live music by Average Blues Band
DESCRIPTION:Live Music with Average Blues Band \nA.B.B. are the finest exponents of contemporary Blues and one of the top Blues Bands in the UK
URL:https://thomastripp.co.uk/event/live-music-by-average-blues-band
LOCATION:Thomas Tripp\, 10 Wick Lane\, Christchurch\, Dorset\, BH23 1HX\, United Kingdom
CATEGORIES:Live Music
ATTACH;FMTTYPE=image/jpeg:https://thomastripp.co.uk/wp-content/uploads/2024/02/MUSIC-3-scaled.jpg
END:VEVENT
BEGIN:VEVENT
DTSTART;TZID=UTC:20241018T210000
DTEND;TZID=UTC:20241018T230000
DTSTAMP:20260419T174845
CREATED:20240916T124903Z
LAST-MODIFIED:20240916T124908Z
UID:10000647-1729285200-1729292400@thomastripp.co.uk
SUMMARY:Live music by Dorsal Finn
DESCRIPTION:Live Music with Dorsal Finn \n 
URL:https://thomastripp.co.uk/event/live-music-by-dorsal-finn
LOCATION:Thomas Tripp\, 10 Wick Lane\, Christchurch\, Dorset\, BH23 1HX\, United Kingdom
CATEGORIES:Live Music
ATTACH;FMTTYPE=image/jpeg:https://thomastripp.co.uk/wp-content/uploads/2024/02/MUSIC-3-scaled.jpg
END:VEVENT
BEGIN:VEVENT
DTSTART;TZID=UTC:20241004T210000
DTEND;TZID=UTC:20241004T230000
DTSTAMP:20260419T174845
CREATED:20240817T095900Z
LAST-MODIFIED:20240817T100040Z
UID:10000641-1728075600-1728082800@thomastripp.co.uk
SUMMARY:Live music by The Alibi
DESCRIPTION:The Alibi are a Rock Covers Band from Bournemouth\, Dorset UK. Playing covers from the present day to pop
URL:https://thomastripp.co.uk/event/live-music-by-the-alibi
LOCATION:Thomas Tripp\, 10 Wick Lane\, Christchurch\, Dorset\, BH23 1HX\, United Kingdom
CATEGORIES:Live Music
ATTACH;FMTTYPE=image/jpeg:https://thomastripp.co.uk/wp-content/uploads/2024/02/348456627_2579293255555059_160912542378030349_n.jpg
END:VEVENT
BEGIN:VEVENT
DTSTART;TZID=UTC:20240929T150000
DTEND;TZID=UTC:20240929T170000
DTSTAMP:20260419T174845
CREATED:20240817T095415Z
LAST-MODIFIED:20240817T095419Z
UID:10000640-1727622000-1727629200@thomastripp.co.uk
SUMMARY:Live music by P R Dewhurst
DESCRIPTION:Live Music with P R Dewhurst \n 
URL:https://thomastripp.co.uk/event/live-music-by-p-r-dewhurst-3
LOCATION:Thomas Tripp\, 10 Wick Lane\, Christchurch\, Dorset\, BH23 1HX\, United Kingdom
CATEGORIES:Live Music
ATTACH;FMTTYPE=image/jpeg:https://thomastripp.co.uk/wp-content/uploads/2024/02/277819885_343774794457485_2912552769000094855_n-1.jpg
END:VEVENT
BEGIN:VEVENT
DTSTART;TZID=UTC:20240920T210000
DTEND;TZID=UTC:20240920T230000
DTSTAMP:20260419T174845
CREATED:20240817T093415Z
LAST-MODIFIED:20240817T093419Z
UID:10000630-1726866000-1726873200@thomastripp.co.uk
SUMMARY:Live music by Skyfall
DESCRIPTION:Live Music with Skyfall \nStarting the bank holiday weekend as we mean to go on!
URL:https://thomastripp.co.uk/event/live-music-by-skyfall-2
LOCATION:Thomas Tripp\, 10 Wick Lane\, Christchurch\, Dorset\, BH23 1HX\, United Kingdom
CATEGORIES:Live Music
ATTACH;FMTTYPE=image/jpeg:https://thomastripp.co.uk/wp-content/uploads/2024/02/348456627_2579293255555059_160912542378030349_n.jpg
END:VEVENT
BEGIN:VEVENT
DTSTART;TZID=UTC:20240913T210000
DTEND;TZID=UTC:20240913T230000
DTSTAMP:20260419T174845
CREATED:20240817T093238Z
LAST-MODIFIED:20240817T093240Z
UID:10000627-1726261200-1726268400@thomastripp.co.uk
SUMMARY:Live music by Lady Winwoods Maggot
DESCRIPTION:Live Music with Lady Winwoods Maggot from 9pm \nThese musical renegades formed in 1993 and defy being pigeon-holed to a musical genre like rebels in a lawless territory. They draw inspiration from the anarchy found in punk right through to the melodic storytelling of country; Not to mention the mysterious allure of traditional foot stomp
URL:https://thomastripp.co.uk/event/live-music-by-lady-winwoods-maggot-2
LOCATION:Thomas Tripp\, 10 Wick Lane\, Christchurch\, Dorset\, BH23 1HX\, United Kingdom
CATEGORIES:Live Music
ATTACH;FMTTYPE=image/jpeg:https://thomastripp.co.uk/wp-content/uploads/2024/02/290975842_473338594797572_1485485823634943926_n.jpg
END:VEVENT
BEGIN:VEVENT
DTSTART;TZID=UTC:20240830T210000
DTEND;TZID=UTC:20240830T210000
DTSTAMP:20260419T174845
CREATED:20240710T112342Z
LAST-MODIFIED:20240710T112348Z
UID:10000618-1725051600-1725051600@thomastripp.co.uk
SUMMARY:Live music by Alternate Versions
DESCRIPTION:Alternate Versions are a covers band that can be booked in different formats to cover any occasion.
URL:https://thomastripp.co.uk/event/live-music-by-alternate-versions
LOCATION:Thomas Tripp\, 10 Wick Lane\, Christchurch\, Dorset\, BH23 1HX\, United Kingdom
CATEGORIES:Live Music
ATTACH;FMTTYPE=image/jpeg:https://thomastripp.co.uk/wp-content/uploads/2024/07/240592988_806049076753028_468655587745814264_n.jpg
END:VEVENT
BEGIN:VEVENT
DTSTART;TZID=UTC:20240726T210000
DTEND;TZID=UTC:20240726T230000
DTSTAMP:20260419T174845
CREATED:20240614T085707Z
LAST-MODIFIED:20240614T085710Z
UID:10000602-1722027600-1722034800@thomastripp.co.uk
SUMMARY:Live music by Miss Chief and The Makers
DESCRIPTION:Live Music with Miss Chief and The Makers from 9pm \nA feel-good party band from Bournemouth\, these guys play all of the floor fillers so you can dance the night away!
URL:https://thomastripp.co.uk/event/live-music-by-miss-chief-and-the-makers-2
LOCATION:Thomas Tripp\, 10 Wick Lane\, Christchurch\, Dorset\, BH23 1HX\, United Kingdom
CATEGORIES:Live Music
ATTACH;FMTTYPE=image/jpeg:https://thomastripp.co.uk/wp-content/uploads/2024/02/396734620_814842117313540_3276205927033877234_n.jpg
END:VEVENT
BEGIN:VEVENT
DTSTART;TZID=UTC:20240714T150000
DTEND;TZID=UTC:20240714T170000
DTSTAMP:20260419T174845
CREATED:20240614T084328Z
LAST-MODIFIED:20240614T084332Z
UID:10000595-1720969200-1720976400@thomastripp.co.uk
SUMMARY:Live music by MLC
DESCRIPTION:Live Music with MLC from 3pm \nEveryones favourite trio will be joining us for an afternoon of chilled out tunes
URL:https://thomastripp.co.uk/event/live-music-by-mlc-2
LOCATION:Thomas Tripp\, 10 Wick Lane\, Christchurch\, Dorset\, BH23 1HX\, United Kingdom
CATEGORIES:Live Music
ATTACH;FMTTYPE=image/jpeg:https://thomastripp.co.uk/wp-content/uploads/2024/02/CMM_061-scaled.jpg
END:VEVENT
BEGIN:VEVENT
DTSTART;TZID=UTC:20240710T112100
DTEND;TZID=UTC:20240710T112100
DTSTAMP:20260419T174845
CREATED:20240710T112124Z
LAST-MODIFIED:20240710T112127Z
UID:10000617-1720610460-1720610460@thomastripp.co.uk
SUMMARY:Live music by Rooster
DESCRIPTION:Rooster is a high-energy party band with incredible 3 part harmony vocals that create an infectious good time vibe at every event. Playing songs from the 50’s to the current day they are always able play to the crowd making sure the dance floor is always full!
URL:https://thomastripp.co.uk/event/live-music-by-rooster-2
LOCATION:Thomas Tripp\, 10 Wick Lane\, Christchurch\, Dorset\, BH23 1HX\, United Kingdom
CATEGORIES:Live Music
ATTACH;FMTTYPE=image/jpeg:https://thomastripp.co.uk/wp-content/uploads/2024/02/316300021_826516601666243_223026257007795180_n.jpg
END:VEVENT
BEGIN:VEVENT
DTSTART;TZID=UTC:20240630T150000
DTEND;TZID=UTC:20240630T150000
DTSTAMP:20260419T174845
CREATED:20240515T174201Z
LAST-MODIFIED:20240515T174207Z
UID:10000589-1719759600-1719759600@thomastripp.co.uk
SUMMARY:Live music by George Holloway
DESCRIPTION:Live Music with George Holloway from 3pm \nGeorge is an acoustic performer with a vast array of upbeat music spanning the decades
URL:https://thomastripp.co.uk/event/live-music-by-george-holloway-2
LOCATION:Thomas Tripp\, 10 Wick Lane\, Christchurch\, Dorset\, BH23 1HX\, United Kingdom
CATEGORIES:Live Music
ATTACH;FMTTYPE=image/jpeg:https://thomastripp.co.uk/wp-content/uploads/2024/02/George-Holloway-Live-Music-Web.jpg
END:VEVENT
BEGIN:VEVENT
DTSTART;TZID=UTC:20240621T210000
DTEND;TZID=UTC:20240621T230000
DTSTAMP:20260419T174845
CREATED:20240515T173248Z
LAST-MODIFIED:20240515T173253Z
UID:10000584-1719003600-1719010800@thomastripp.co.uk
SUMMARY:Live music by Dr Beatroot
DESCRIPTION:Live Music with Dr Beatroot from 9pm \nDr Beatroot is a 5-piece British Skifflely bluegrass band from Bournemouth. Formed in 2017\, a collection of friends hail as ‘Bunch of passing fools’ who just can’t get enough Bluegrass and Appalachian roots music. Their unique brand of entertainment fuses Percussive bluegrass\, country\, skiffle and Appalachian roots with high-energy\, traditional and newer tunes that will make you want to clap along\, stamp your feet and sing out loud!
URL:https://thomastripp.co.uk/event/live-music-by-dr-beatroot-2
LOCATION:Thomas Tripp\, 10 Wick Lane\, Christchurch\, Dorset\, BH23 1HX\, United Kingdom
CATEGORIES:Live Music
ATTACH;FMTTYPE=image/jpeg:https://thomastripp.co.uk/wp-content/uploads/2024/02/406802583_693491716095928_4347835048703714477_n.jpg
END:VEVENT
BEGIN:VEVENT
DTSTART;TZID=UTC:20240609T150000
DTEND;TZID=UTC:20240609T170000
DTSTAMP:20260419T174845
CREATED:20240515T172831Z
LAST-MODIFIED:20240515T172837Z
UID:10000581-1717945200-1717952400@thomastripp.co.uk
SUMMARY:Live music by P R Dewhurst
DESCRIPTION:Live Music with P R Dewhurst from 5pm \n 
URL:https://thomastripp.co.uk/event/live-music-by-p-r-dewhurst-2
LOCATION:Thomas Tripp\, 10 Wick Lane\, Christchurch\, Dorset\, BH23 1HX\, United Kingdom
CATEGORIES:Live Music
ATTACH;FMTTYPE=image/jpeg:https://thomastripp.co.uk/wp-content/uploads/2024/02/277819885_343774794457485_2912552769000094855_n-1.jpg
END:VEVENT
BEGIN:VEVENT
DTSTART;TZID=UTC:20240601T210000
DTEND;TZID=UTC:20240601T210000
DTSTAMP:20260419T174845
CREATED:20240515T172007Z
LAST-MODIFIED:20240515T172012Z
UID:10000576-1717275600-1717275600@thomastripp.co.uk
SUMMARY:Live music by We Are Robot
DESCRIPTION:Live Music with We Are Robot from 9pm \nOver the years\, they have become one of the most popular function bands on the south coast. \nThe blend of two acoustic guitars and great attention to vocal harmonies lend well to faithfully recreating popular tunes from the past decades.
URL:https://thomastripp.co.uk/event/live-music-by-we-are-robot-2
LOCATION:Thomas Tripp\, 10 Wick Lane\, Christchurch\, Dorset\, BH23 1HX\, United Kingdom
CATEGORIES:Live Music
ATTACH;FMTTYPE=image/jpeg:https://thomastripp.co.uk/wp-content/uploads/2024/02/278441701_2099638053544122_5521715448162015115_n.jpg
END:VEVENT
END:VCALENDAR