BEGIN:VCALENDAR
VERSION:2.0
PRODID:-//Thomas Tripp - ECPv6.15.20//NONSGML v1.0//EN
CALSCALE:GREGORIAN
METHOD:PUBLISH
X-ORIGINAL-URL:https://thomastripp.co.uk
X-WR-CALDESC:Events for Thomas Tripp
REFRESH-INTERVAL;VALUE=DURATION:PT1H
X-Robots-Tag:noindex
X-PUBLISHED-TTL:PT1H
BEGIN:VTIMEZONE
TZID:UTC
BEGIN:STANDARD
TZOFFSETFROM:+0000
TZOFFSETTO:+0000
TZNAME:UTC
DTSTART:20240101T000000
END:STANDARD
END:VTIMEZONE
BEGIN:VEVENT
DTSTART;TZID=UTC:20251024T210000
DTEND;TZID=UTC:20251024T230000
DTSTAMP:20260423T182003
CREATED:20250915T131333Z
LAST-MODIFIED:20250915T131336Z
UID:10001250-1761339600-1761346800@thomastripp.co.uk
SUMMARY:Live Music by The Transitions
DESCRIPTION:There may be only two of them\, but they can sure make some noise. They’re seasoned musicians with Glastonbury\, Camp Bestival and the one and only Thomas Tripp on their CV’s
URL:https://thomastripp.co.uk/event/live-music-by-the-transitions-3
LOCATION:Thomas Tripp\, 10 Wick Lane\, Christchurch\, Dorset\, BH23 1HX\, United Kingdom
ATTACH;FMTTYPE=image/jpeg:https://thomastripp.co.uk/wp-content/uploads/2024/07/158842440_170428388223897_1262556734570272068_n.jpg
END:VEVENT
END:VCALENDAR