BEGIN:VCALENDAR
VERSION:2.0
PRODID:-//Thomas Tripp - ECPv6.15.20//NONSGML v1.0//EN
CALSCALE:GREGORIAN
METHOD:PUBLISH
X-WR-CALNAME:Thomas Tripp
X-ORIGINAL-URL:https://thomastripp.co.uk
X-WR-CALDESC:Events for Thomas Tripp
REFRESH-INTERVAL;VALUE=DURATION:PT1H
X-Robots-Tag:noindex
X-PUBLISHED-TTL:PT1H
BEGIN:VTIMEZONE
TZID:UTC
BEGIN:STANDARD
TZOFFSETFROM:+0000
TZOFFSETTO:+0000
TZNAME:UTC
DTSTART:20240101T000000
END:STANDARD
END:VTIMEZONE
BEGIN:VEVENT
DTSTART;TZID=UTC:20250620T210000
DTEND;TZID=UTC:20250620T230000
DTSTAMP:20260423T182532
CREATED:20250307T140524Z
LAST-MODIFIED:20250307T140528Z
UID:10001120-1750453200-1750460400@thomastripp.co.uk
SUMMARY:Live music by The Seventynine
DESCRIPTION:The 79 are Bournemouth’s original New Wave retro band. Formed in 2003 they have been bringing you the best era of music (1979ish!) ever since\, as well as classic originals which cover topics such as Pan’s People\, girls on vintage bikes and falling in love on trains. From Blondie to the Blockheads and from Buggles to the Buzzcocks we are sure you will enjoy their vintage vibes…
URL:https://thomastripp.co.uk/event/live-music-by-the-seventynine-3
LOCATION:Thomas Tripp\, 10 Wick Lane\, Christchurch\, Dorset\, BH23 1HX\, United Kingdom
ATTACH;FMTTYPE=image/jpeg:https://thomastripp.co.uk/wp-content/uploads/2024/02/309155817_524667052999051_6939744655065747332_n.jpg
END:VEVENT
END:VCALENDAR