BEGIN:VCALENDAR
VERSION:2.0
PRODID:-//Thomas Tripp - ECPv6.15.20//NONSGML v1.0//EN
CALSCALE:GREGORIAN
METHOD:PUBLISH
X-ORIGINAL-URL:https://thomastripp.co.uk
X-WR-CALDESC:Events for Thomas Tripp
REFRESH-INTERVAL;VALUE=DURATION:PT1H
X-Robots-Tag:noindex
X-PUBLISHED-TTL:PT1H
BEGIN:VTIMEZONE
TZID:UTC
BEGIN:STANDARD
TZOFFSETFROM:+0000
TZOFFSETTO:+0000
TZNAME:UTC
DTSTART:20240101T000000
END:STANDARD
END:VTIMEZONE
BEGIN:VEVENT
DTSTART;TZID=UTC:20250613T210000
DTEND;TZID=UTC:20250613T230000
DTSTAMP:20260421T205655
CREATED:20250307T140309Z
LAST-MODIFIED:20250307T140314Z
UID:10001118-1749848400-1749855600@thomastripp.co.uk
SUMMARY:Live Music by Shaeds
DESCRIPTION:Shaeds Music is a function covers band trio specialising in lively party rock\, pop and soul. Featuring 3 of the area’s most experienced working musicians\, Tim\, Phil and Adam will provide the perfect live music for your event\, whatever it may be!
URL:https://thomastripp.co.uk/event/live-music-by-shaeds-3
LOCATION:Thomas Tripp\, 10 Wick Lane\, Christchurch\, Dorset\, BH23 1HX\, United Kingdom
ATTACH;FMTTYPE=image/jpeg:https://thomastripp.co.uk/wp-content/uploads/2024/04/323646108_1181726402471149_2611674666010851157_n.jpg
END:VEVENT
END:VCALENDAR