BEGIN:VCALENDAR
VERSION:2.0
PRODID:-//Thomas Tripp - ECPv6.15.20//NONSGML v1.0//EN
CALSCALE:GREGORIAN
METHOD:PUBLISH
X-WR-CALNAME:Thomas Tripp
X-ORIGINAL-URL:https://thomastripp.co.uk
X-WR-CALDESC:Events for Thomas Tripp
REFRESH-INTERVAL;VALUE=DURATION:PT1H
X-Robots-Tag:noindex
X-PUBLISHED-TTL:PT1H
BEGIN:VTIMEZONE
TZID:UTC
BEGIN:STANDARD
TZOFFSETFROM:+0000
TZOFFSETTO:+0000
TZNAME:UTC
DTSTART:20240101T000000
END:STANDARD
END:VTIMEZONE
BEGIN:VEVENT
DTSTART;TZID=UTC:20250510T210000
DTEND;TZID=UTC:20250510T230000
DTSTAMP:20260420T053900
CREATED:20250307T131419Z
LAST-MODIFIED:20250307T131424Z
UID:10001104-1746910800-1746918000@thomastripp.co.uk
SUMMARY:Live Music by GrooveIT
DESCRIPTION:Groovit: 4pc function band from south UK\, 30 yrs exp\, great dance songs for all events.
URL:https://thomastripp.co.uk/event/live-music-by-grooveit-3
LOCATION:Thomas Tripp\, 10 Wick Lane\, Christchurch\, Dorset\, BH23 1HX\, United Kingdom
ATTACH;FMTTYPE=image/jpeg:https://thomastripp.co.uk/wp-content/uploads/2024/06/396063994_660470859544818_3175419813122335196_n.jpg
END:VEVENT
END:VCALENDAR