BEGIN:VCALENDAR
VERSION:2.0
PRODID:-//Thomas Tripp - ECPv6.15.20//NONSGML v1.0//EN
CALSCALE:GREGORIAN
METHOD:PUBLISH
X-ORIGINAL-URL:https://thomastripp.co.uk
X-WR-CALDESC:Events for Thomas Tripp
REFRESH-INTERVAL;VALUE=DURATION:PT1H
X-Robots-Tag:noindex
X-PUBLISHED-TTL:PT1H
BEGIN:VTIMEZONE
TZID:UTC
BEGIN:STANDARD
TZOFFSETFROM:+0000
TZOFFSETTO:+0000
TZNAME:UTC
DTSTART:20240101T000000
END:STANDARD
END:VTIMEZONE
BEGIN:VEVENT
DTSTART;TZID=UTC:20250502T210000
DTEND;TZID=UTC:20250502T230000
DTSTAMP:20260420T005839
CREATED:20250307T130432Z
LAST-MODIFIED:20250307T130438Z
UID:10001099-1746219600-1746226800@thomastripp.co.uk
SUMMARY:Live Music by The Few
DESCRIPTION:They’re back with us with a brand new frontman! A night full of rock and pop covers\, guaranteed great night with The Few on the stage.
URL:https://thomastripp.co.uk/event/live-music-by-the-few-5
LOCATION:Thomas Tripp\, 10 Wick Lane\, Christchurch\, Dorset\, BH23 1HX\, United Kingdom
ATTACH;FMTTYPE=image/jpeg:https://thomastripp.co.uk/wp-content/uploads/2024/03/425677680_1157357225402204_8959186643693190457_n.jpg
END:VEVENT
END:VCALENDAR