BEGIN:VCALENDAR
VERSION:2.0
PRODID:-//Thomas Tripp - ECPv6.15.20//NONSGML v1.0//EN
CALSCALE:GREGORIAN
METHOD:PUBLISH
X-WR-CALNAME:Thomas Tripp
X-ORIGINAL-URL:https://thomastripp.co.uk
X-WR-CALDESC:Events for Thomas Tripp
REFRESH-INTERVAL;VALUE=DURATION:PT1H
X-Robots-Tag:noindex
X-PUBLISHED-TTL:PT1H
BEGIN:VTIMEZONE
TZID:UTC
BEGIN:STANDARD
TZOFFSETFROM:+0000
TZOFFSETTO:+0000
TZNAME:UTC
DTSTART:20240101T000000
END:STANDARD
END:VTIMEZONE
BEGIN:VEVENT
DTSTART;TZID=UTC:20250426T130000
DTEND;TZID=UTC:20250426T150000
DTSTAMP:20260420T005349
CREATED:20250304T132155Z
LAST-MODIFIED:20250304T132158Z
UID:10001094-1745672400-1745679600@thomastripp.co.uk
SUMMARY:Live Music by Funk 54
DESCRIPTION:Do you love that funky beat? Do you enjoy powerful\, soulful vocals? Do you need some funk back in your life? Then Funk54 have the remedy!
URL:https://thomastripp.co.uk/event/live-music-by-funk-54-3
LOCATION:Thomas Tripp\, 10 Wick Lane\, Christchurch\, Dorset\, BH23 1HX\, United Kingdom
ATTACH;FMTTYPE=image/jpeg:https://thomastripp.co.uk/wp-content/uploads/2024/07/438795826_10163371535677067_8504554668293837896_n.jpg
END:VEVENT
BEGIN:VEVENT
DTSTART;TZID=UTC:20250426T150000
DTEND;TZID=UTC:20250426T210000
DTSTAMP:20260420T005349
CREATED:20250314T110512Z
LAST-MODIFIED:20250314T110522Z
UID:10001130-1745679600-1745701200@thomastripp.co.uk
SUMMARY:DJ BIG T
DESCRIPTION:
URL:https://thomastripp.co.uk/event/dj-big-t
LOCATION:Thomas Tripp\, 10 Wick Lane\, Christchurch\, Dorset\, BH23 1HX\, United Kingdom
ATTACH;FMTTYPE=image/webp:https://thomastripp.co.uk/wp-content/uploads/2025/03/4cf1-cfda-426a-9eb2-63e0563e81e4.webp
END:VEVENT
BEGIN:VEVENT
DTSTART;TZID=UTC:20250426T210000
DTEND;TZID=UTC:20250426T230000
DTSTAMP:20260420T005349
CREATED:20250307T130050Z
LAST-MODIFIED:20250307T130055Z
UID:10001098-1745701200-1745708400@thomastripp.co.uk
SUMMARY:The Defectors
DESCRIPTION:The Defectors are an awesome band playing feel good soul and motown hits and classics. If you want to dance the night away\, and have an amazing time then these are the guys to set your feet tapping right from the start and into the night! \n  \n2 saxophonists\, 1 trumpet\, 2 guitarists\, keyboard\, and drummer supports the vocalist\, and what a support it is! Energetic\, electrifying and exciting throughout their sets ensuring that the audience enjoy their performance as much as they do.
URL:https://thomastripp.co.uk/event/the-defectors
LOCATION:Thomas Tripp\, 10 Wick Lane\, Christchurch\, Dorset\, BH23 1HX\, United Kingdom
ATTACH;FMTTYPE=image/jpeg:https://thomastripp.co.uk/wp-content/uploads/2025/03/471306954_1168608234794156_978354389661539107_n.jpeg
END:VEVENT
END:VCALENDAR