BEGIN:VCALENDAR
VERSION:2.0
PRODID:-//Thomas Tripp - ECPv6.15.20//NONSGML v1.0//EN
CALSCALE:GREGORIAN
METHOD:PUBLISH
X-WR-CALNAME:Thomas Tripp
X-ORIGINAL-URL:https://thomastripp.co.uk
X-WR-CALDESC:Events for Thomas Tripp
REFRESH-INTERVAL;VALUE=DURATION:PT1H
X-Robots-Tag:noindex
X-PUBLISHED-TTL:PT1H
BEGIN:VTIMEZONE
TZID:UTC
BEGIN:STANDARD
TZOFFSETFROM:+0000
TZOFFSETTO:+0000
TZNAME:UTC
DTSTART:20230101T000000
END:STANDARD
END:VTIMEZONE
BEGIN:VEVENT
DTSTART;TZID=UTC:20241220T210000
DTEND;TZID=UTC:20241220T210000
DTSTAMP:20260421T005520
CREATED:20241022T151329Z
LAST-MODIFIED:20241022T151333Z
UID:10000702-1734728400-1734728400@thomastripp.co.uk
SUMMARY:Live Music by The Transitions
DESCRIPTION:There may be only two of them\, but they can sure make some noise. They’re seasoned musicians with Glastonbury\, Camp Bestival and the one and only Thomas Tripp on their CV’s
URL:https://thomastripp.co.uk/event/live-music-by-the-transitions-2
LOCATION:Thomas Tripp\, 10 Wick Lane\, Christchurch\, Dorset\, BH23 1HX\, United Kingdom
ATTACH;FMTTYPE=image/jpeg:https://thomastripp.co.uk/wp-content/uploads/2024/07/158842440_170428388223897_1262556734570272068_n.jpg
END:VEVENT
END:VCALENDAR