BEGIN:VCALENDAR
VERSION:2.0
PRODID:-//Thomas Tripp - ECPv6.15.20//NONSGML v1.0//EN
CALSCALE:GREGORIAN
METHOD:PUBLISH
X-WR-CALNAME:Thomas Tripp
X-ORIGINAL-URL:https://thomastripp.co.uk
X-WR-CALDESC:Events for Thomas Tripp
REFRESH-INTERVAL;VALUE=DURATION:PT1H
X-Robots-Tag:noindex
X-PUBLISHED-TTL:PT1H
BEGIN:VTIMEZONE
TZID:UTC
BEGIN:STANDARD
TZOFFSETFROM:+0000
TZOFFSETTO:+0000
TZNAME:UTC
DTSTART:20230101T000000
END:STANDARD
END:VTIMEZONE
BEGIN:VEVENT
DTSTART;TZID=UTC:20241006T150000
DTEND;TZID=UTC:20241006T170000
DTSTAMP:20260423T212648
CREATED:20240817T100112Z
LAST-MODIFIED:20240817T100115Z
UID:10000642-1728226800-1728234000@thomastripp.co.uk
SUMMARY:Live Music by Gavin Munn
DESCRIPTION:Gavin will be serenading your Sunday with a host of upbeat acoustic covers. You may have seen him before as the charismatic frontman of the electric Audio Allstars and tribute band The 80’s!
URL:https://thomastripp.co.uk/event/live-music-by-gavin-munn-4
LOCATION:Thomas Tripp\, 10 Wick Lane\, Christchurch\, Dorset\, BH23 1HX\, United Kingdom
ATTACH;FMTTYPE=image/jpeg:https://thomastripp.co.uk/wp-content/uploads/2024/03/284395621_1053349025575803_5973665861028927020_n-2.jpg
END:VEVENT
END:VCALENDAR