BEGIN:VCALENDAR
VERSION:2.0
PRODID:-//Thomas Tripp - ECPv6.15.20//NONSGML v1.0//EN
CALSCALE:GREGORIAN
METHOD:PUBLISH
X-WR-CALNAME:Thomas Tripp
X-ORIGINAL-URL:https://thomastripp.co.uk
X-WR-CALDESC:Events for Thomas Tripp
REFRESH-INTERVAL;VALUE=DURATION:PT1H
X-Robots-Tag:noindex
X-PUBLISHED-TTL:PT1H
BEGIN:VTIMEZONE
TZID:UTC
BEGIN:STANDARD
TZOFFSETFROM:+0000
TZOFFSETTO:+0000
TZNAME:UTC
DTSTART:20230101T000000
END:STANDARD
END:VTIMEZONE
BEGIN:VEVENT
DTSTART;TZID=UTC:20240928T210000
DTEND;TZID=UTC:20240928T230000
DTSTAMP:20260423T230628
CREATED:20240817T095338Z
LAST-MODIFIED:20240817T095342Z
UID:10000639-1727557200-1727564400@thomastripp.co.uk
SUMMARY:Live Music by Funk 54
DESCRIPTION:Do you love that funky beat? Do you enjoy powerful\, soulful vocals? Do you need some funk back in your life? Then Funk54 have the remedy!
URL:https://thomastripp.co.uk/event/live-music-by-funk-54-2
LOCATION:Thomas Tripp\, 10 Wick Lane\, Christchurch\, Dorset\, BH23 1HX\, United Kingdom
ATTACH;FMTTYPE=image/jpeg:https://thomastripp.co.uk/wp-content/uploads/2024/07/438795826_10163371535677067_8504554668293837896_n.jpg
END:VEVENT
END:VCALENDAR