BEGIN:VCALENDAR
VERSION:2.0
PRODID:-//Thomas Tripp - ECPv6.15.20//NONSGML v1.0//EN
CALSCALE:GREGORIAN
METHOD:PUBLISH
X-WR-CALNAME:Thomas Tripp
X-ORIGINAL-URL:https://thomastripp.co.uk
X-WR-CALDESC:Events for Thomas Tripp
REFRESH-INTERVAL;VALUE=DURATION:PT1H
X-Robots-Tag:noindex
X-PUBLISHED-TTL:PT1H
BEGIN:VTIMEZONE
TZID:UTC
BEGIN:STANDARD
TZOFFSETFROM:+0000
TZOFFSETTO:+0000
TZNAME:UTC
DTSTART:20230101T000000
END:STANDARD
END:VTIMEZONE
BEGIN:VEVENT
DTSTART;TZID=UTC:20240927T200000
DTEND;TZID=UTC:20240927T200000
DTSTAMP:20260423T230618
CREATED:20240817T095003Z
LAST-MODIFIED:20240817T095128Z
UID:10000635-1727467200-1727467200@thomastripp.co.uk
SUMMARY:DJ Jay Rachet
DESCRIPTION:The legendary DJ Jay Rachet will be joining us from 8 spinning his floor fillers until late…
URL:https://thomastripp.co.uk/event/dj-jay-rachet-6
LOCATION:Thomas Tripp\, 10 Wick Lane\, Christchurch\, Dorset\, BH23 1HX\, United Kingdom
ATTACH;FMTTYPE=image/jpeg:https://thomastripp.co.uk/wp-content/uploads/2024/02/313206396_2975197319447990_2391719232741143495_n-2.jpg
END:VEVENT
BEGIN:VEVENT
DTSTART;TZID=UTC:20240927T210000
DTEND;TZID=UTC:20240927T230000
DTSTAMP:20260423T230618
CREATED:20240817T094906Z
LAST-MODIFIED:20240817T094909Z
UID:10000634-1727470800-1727478000@thomastripp.co.uk
SUMMARY:Live Music by Precinct 13
DESCRIPTION:A fun night of singing and dancing along to the best rock covers around!
URL:https://thomastripp.co.uk/event/live-music-by-precinct-13
LOCATION:Thomas Tripp\, 10 Wick Lane\, Christchurch\, Dorset\, BH23 1HX\, United Kingdom
ATTACH;FMTTYPE=image/jpeg:https://thomastripp.co.uk/wp-content/uploads/2024/08/454034305_1304668604194935_4975863344892374437_n.jpg
END:VEVENT
END:VCALENDAR