BEGIN:VCALENDAR
VERSION:2.0
PRODID:-//Thomas Tripp - ECPv6.15.20//NONSGML v1.0//EN
CALSCALE:GREGORIAN
METHOD:PUBLISH
X-WR-CALNAME:Thomas Tripp
X-ORIGINAL-URL:https://thomastripp.co.uk
X-WR-CALDESC:Events for Thomas Tripp
REFRESH-INTERVAL;VALUE=DURATION:PT1H
X-Robots-Tag:noindex
X-PUBLISHED-TTL:PT1H
BEGIN:VTIMEZONE
TZID:UTC
BEGIN:STANDARD
TZOFFSETFROM:+0000
TZOFFSETTO:+0000
TZNAME:UTC
DTSTART:20230101T000000
END:STANDARD
END:VTIMEZONE
BEGIN:VEVENT
DTSTART;TZID=UTC:20240921T150000
DTEND;TZID=UTC:20240921T230000
DTSTAMP:20260423T230653
CREATED:20240817T104006Z
LAST-MODIFIED:20240909T100722Z
UID:10000632-1726930800-1726959600@thomastripp.co.uk
SUMMARY:END OF SUMMER PARTY
DESCRIPTION:We Broke Free DJ’s\, Tor Da Force and Adam Foxx will be kicking off the party with their floor fillers from 3pm \nFollowed by The Essential Party Band – Upbeat hits from Justin Timberlake\, Tina Turner\, Oasis\, Dolly\, Queen\, and loads more!
URL:https://thomastripp.co.uk/event/end-of-summer-party
LOCATION:Thomas Tripp\, 10 Wick Lane\, Christchurch\, Dorset\, BH23 1HX\, United Kingdom
END:VEVENT
END:VCALENDAR