BEGIN:VCALENDAR
VERSION:2.0
PRODID:-//Thomas Tripp - ECPv6.15.20//NONSGML v1.0//EN
CALSCALE:GREGORIAN
METHOD:PUBLISH
X-WR-CALNAME:Thomas Tripp
X-ORIGINAL-URL:https://thomastripp.co.uk
X-WR-CALDESC:Events for Thomas Tripp
REFRESH-INTERVAL;VALUE=DURATION:PT1H
X-Robots-Tag:noindex
X-PUBLISHED-TTL:PT1H
BEGIN:VTIMEZONE
TZID:UTC
BEGIN:STANDARD
TZOFFSETFROM:+0000
TZOFFSETTO:+0000
TZNAME:UTC
DTSTART:20230101T000000
END:STANDARD
END:VTIMEZONE
BEGIN:VEVENT
DTSTART;TZID=UTC:20240811T150000
DTEND;TZID=UTC:20240811T170000
DTSTAMP:20260424T054655
CREATED:20240710T110937Z
LAST-MODIFIED:20240710T110940Z
UID:10000612-1723388400-1723395600@thomastripp.co.uk
SUMMARY:Live Music by Aimee Sarah and The Jam
DESCRIPTION:Another Sunday Funday with this awesome trio!
URL:https://thomastripp.co.uk/event/live-music-by-aimee-sarah-and-the-jam
LOCATION:Thomas Tripp\, 10 Wick Lane\, Christchurch\, Dorset\, BH23 1HX\, United Kingdom
ATTACH;FMTTYPE=image/jpeg:https://thomastripp.co.uk/wp-content/uploads/2024/04/434423957_340384965700864_8403398799476811020_n.jpg
END:VEVENT
END:VCALENDAR